BEGIN:VCALENDAR
VERSION:2.0
PRODID:-//Simi Valley Masonic Lodge - ECPv6.15.20//NONSGML v1.0//EN
CALSCALE:GREGORIAN
METHOD:PUBLISH
X-ORIGINAL-URL:https://www.simimasons.org
X-WR-CALDESC:Events for Simi Valley Masonic Lodge
REFRESH-INTERVAL;VALUE=DURATION:PT1H
X-Robots-Tag:noindex
X-PUBLISHED-TTL:PT1H
BEGIN:VTIMEZONE
TZID:America/Los_Angeles
BEGIN:DAYLIGHT
TZOFFSETFROM:-0800
TZOFFSETTO:-0700
TZNAME:PDT
DTSTART:20250309T100000
END:DAYLIGHT
BEGIN:STANDARD
TZOFFSETFROM:-0700
TZOFFSETTO:-0800
TZNAME:PST
DTSTART:20251102T090000
END:STANDARD
BEGIN:DAYLIGHT
TZOFFSETFROM:-0800
TZOFFSETTO:-0700
TZNAME:PDT
DTSTART:20260308T100000
END:DAYLIGHT
BEGIN:STANDARD
TZOFFSETFROM:-0700
TZOFFSETTO:-0800
TZNAME:PST
DTSTART:20261101T090000
END:STANDARD
BEGIN:DAYLIGHT
TZOFFSETFROM:-0800
TZOFFSETTO:-0700
TZNAME:PDT
DTSTART:20270314T100000
END:DAYLIGHT
BEGIN:STANDARD
TZOFFSETFROM:-0700
TZOFFSETTO:-0800
TZNAME:PST
DTSTART:20271107T090000
END:STANDARD
END:VTIMEZONE
BEGIN:VEVENT
DTSTART;TZID=America/Los_Angeles:20260601T170000
DTEND;TZID=America/Los_Angeles:20260601T220000
DTSTAMP:20260425T091445
CREATED:20251203T002551Z
LAST-MODIFIED:20260425T153041Z
UID:33845-1780333200-1780351200@www.simimasons.org
SUMMARY:Mason’s TBD
DESCRIPTION:
URL:https://www.simimasons.org/event/masons-tbd-67/
END:VEVENT
BEGIN:VEVENT
DTSTART;TZID=America/Los_Angeles:20260602T113000
DTEND;TZID=America/Los_Angeles:20260602T153000
DTSTAMP:20260425T091445
CREATED:20251203T065502Z
LAST-MODIFIED:20260425T153042Z
UID:33853-1780399800-1780414200@www.simimasons.org
SUMMARY:Oddfellows Feeding Homeless
DESCRIPTION:
URL:https://www.simimasons.org/event/oddfellows-feeding-homeless-9/
END:VEVENT
BEGIN:VEVENT
DTSTART;TZID=America/Los_Angeles:20260602T160000
DTEND;TZID=America/Los_Angeles:20260602T220000
DTSTAMP:20260425T091445
CREATED:20251204T035005Z
LAST-MODIFIED:20260425T153042Z
UID:33874-1780416000-1780437600@www.simimasons.org
SUMMARY:Jobs meeting 4-10 pm
DESCRIPTION:
URL:https://www.simimasons.org/event/jobs-meeting-4-10-pm-105/
END:VEVENT
BEGIN:VEVENT
DTSTART;TZID=America/Los_Angeles:20260603T170000
DTEND;TZID=America/Los_Angeles:20260603T220000
DTSTAMP:20260425T091445
CREATED:20260124T223048Z
LAST-MODIFIED:20260425T153042Z
UID:34975-1780506000-1780524000@www.simimasons.org
SUMMARY:Masons
DESCRIPTION:
URL:https://www.simimasons.org/event/masons-400/
END:VEVENT
BEGIN:VEVENT
DTSTART;TZID=America/Los_Angeles:20260603T183000
DTEND;TZID=America/Los_Angeles:20260603T193000
DTSTAMP:20260425T091445
CREATED:20251204T060505Z
LAST-MODIFIED:20260425T153042Z
UID:33878-1780511400-1780515000@www.simimasons.org
SUMMARY:Masons Stated Meeting
DESCRIPTION:Dinner served at 6:00pm. Stated Meeting begins at 7:30pm
URL:https://www.simimasons.org/event/masons-stated-meeting-7/
END:VEVENT
BEGIN:VEVENT
DTSTART;TZID=America/Los_Angeles:20260609T160000
DTEND;TZID=America/Los_Angeles:20260609T220000
DTSTAMP:20260425T091445
CREATED:20251221T120102Z
LAST-MODIFIED:20260425T153054Z
UID:34158-1781020800-1781042400@www.simimasons.org
SUMMARY:Oddfellows 4-10 pm
DESCRIPTION:
URL:https://www.simimasons.org/event/oddfellows-4-10-pm-17/
END:VEVENT
BEGIN:VEVENT
DTSTART;TZID=America/Los_Angeles:20260610T170000
DTEND;TZID=America/Los_Angeles:20260610T220000
DTSTAMP:20260425T091445
CREATED:20260124T223049Z
LAST-MODIFIED:20260425T153054Z
UID:34976-1781110800-1781128800@www.simimasons.org
SUMMARY:Masons
DESCRIPTION:
URL:https://www.simimasons.org/event/masons-401/
END:VEVENT
BEGIN:VEVENT
DTSTART;TZID=America/Los_Angeles:20260615T080000
DTEND;TZID=America/Los_Angeles:20260615T090000
DTSTAMP:20260425T091445
CREATED:20251213T060221Z
LAST-MODIFIED:20260425T153054Z
UID:34036-1781510400-1781514000@www.simimasons.org
SUMMARY:Life Line
DESCRIPTION:
URL:https://www.simimasons.org/event/life-line/
END:VEVENT
BEGIN:VEVENT
DTSTART;TZID=America/Los_Angeles:20260615T170000
DTEND;TZID=America/Los_Angeles:20260615T220000
DTSTAMP:20260425T091445
CREATED:20251214T061625Z
LAST-MODIFIED:20260425T153054Z
UID:34071-1781542800-1781560800@www.simimasons.org
SUMMARY:Mason’s TBD
DESCRIPTION:
URL:https://www.simimasons.org/event/masons-tbd-69/
END:VEVENT
BEGIN:VEVENT
DTSTART;TZID=America/Los_Angeles:20260616T164500
DTEND;TZID=America/Los_Angeles:20260616T220000
DTSTAMP:20260425T091445
CREATED:20251215T063151Z
LAST-MODIFIED:20260425T153055Z
UID:34095-1781628300-1781647200@www.simimasons.org
SUMMARY:Jobs meeting 4-10 pm
DESCRIPTION:
URL:https://www.simimasons.org/event/jobs-meeting-4-10-pm-106/
END:VEVENT
BEGIN:VEVENT
DTSTART;TZID=America/Los_Angeles:20260617T170000
DTEND;TZID=America/Los_Angeles:20260617T220000
DTSTAMP:20260425T091445
CREATED:20260124T223050Z
LAST-MODIFIED:20260425T153055Z
UID:34977-1781715600-1781733600@www.simimasons.org
SUMMARY:Masons
DESCRIPTION:
URL:https://www.simimasons.org/event/masons-402/
END:VEVENT
BEGIN:VEVENT
DTSTART;TZID=America/Los_Angeles:20260618T180000
DTEND;TZID=America/Los_Angeles:20260618T210000
DTSTAMP:20260425T091445
CREATED:20251216T063057Z
LAST-MODIFIED:20260425T153055Z
UID:34118-1781805600-1781816400@www.simimasons.org
SUMMARY:SVMBA
DESCRIPTION:Meeting begins at 7:00pm
URL:https://www.simimasons.org/event/svmba-41/
END:VEVENT
BEGIN:VEVENT
DTSTART;TZID=America/Los_Angeles:20260622T170000
DTEND;TZID=America/Los_Angeles:20260622T220000
DTSTAMP:20260425T091445
CREATED:20251221T120105Z
LAST-MODIFIED:20260425T153055Z
UID:34159-1782147600-1782165600@www.simimasons.org
SUMMARY:Mason’s TBD
DESCRIPTION:
URL:https://www.simimasons.org/event/masons-tbd-70/
END:VEVENT
BEGIN:VEVENT
DTSTART;TZID=America/Los_Angeles:20260624T170000
DTEND;TZID=America/Los_Angeles:20260624T220000
DTSTAMP:20260425T091445
CREATED:20260124T223104Z
LAST-MODIFIED:20260425T153107Z
UID:34978-1782320400-1782338400@www.simimasons.org
SUMMARY:Masons
DESCRIPTION:
URL:https://www.simimasons.org/event/masons-403/
END:VEVENT
BEGIN:VEVENT
DTSTART;TZID=America/Los_Angeles:20260629T170000
DTEND;TZID=America/Los_Angeles:20260629T220000
DTSTAMP:20260425T091445
CREATED:20251224T021642Z
LAST-MODIFIED:20260425T153107Z
UID:34229-1782752400-1782770400@www.simimasons.org
SUMMARY:Mason’s TBD
DESCRIPTION:
URL:https://www.simimasons.org/event/masons-tbd-71/
END:VEVENT
END:VCALENDAR