BEGIN:VCALENDAR
VERSION:2.0
PRODID:-//Simi Valley Masonic Lodge - ECPv6.15.20//NONSGML v1.0//EN
CALSCALE:GREGORIAN
METHOD:PUBLISH
X-ORIGINAL-URL:https://www.simimasons.org
X-WR-CALDESC:Events for Simi Valley Masonic Lodge
REFRESH-INTERVAL;VALUE=DURATION:PT1H
X-Robots-Tag:noindex
X-PUBLISHED-TTL:PT1H
BEGIN:VTIMEZONE
TZID:America/Los_Angeles
BEGIN:DAYLIGHT
TZOFFSETFROM:-0800
TZOFFSETTO:-0700
TZNAME:PDT
DTSTART:20240310T100000
END:DAYLIGHT
BEGIN:STANDARD
TZOFFSETFROM:-0700
TZOFFSETTO:-0800
TZNAME:PST
DTSTART:20241103T090000
END:STANDARD
BEGIN:DAYLIGHT
TZOFFSETFROM:-0800
TZOFFSETTO:-0700
TZNAME:PDT
DTSTART:20250309T100000
END:DAYLIGHT
BEGIN:STANDARD
TZOFFSETFROM:-0700
TZOFFSETTO:-0800
TZNAME:PST
DTSTART:20251102T090000
END:STANDARD
BEGIN:DAYLIGHT
TZOFFSETFROM:-0800
TZOFFSETTO:-0700
TZNAME:PDT
DTSTART:20260308T100000
END:DAYLIGHT
BEGIN:STANDARD
TZOFFSETFROM:-0700
TZOFFSETTO:-0800
TZNAME:PST
DTSTART:20261101T090000
END:STANDARD
END:VTIMEZONE
BEGIN:VEVENT
DTSTART;TZID=America/Los_Angeles:20251001T170000
DTEND;TZID=America/Los_Angeles:20251001T220000
DTSTAMP:20260425T143846
CREATED:20250319T052447Z
LAST-MODIFIED:20251002T045128Z
UID:27909-1759338000-1759356000@www.simimasons.org
SUMMARY:Masons
DESCRIPTION:
URL:https://www.simimasons.org/event/masons-352/
END:VEVENT
BEGIN:VEVENT
DTSTART;TZID=America/Los_Angeles:20251004T080000
DTEND;TZID=America/Los_Angeles:20251004T150000
DTSTAMP:20260425T143846
CREATED:20250320T045359Z
LAST-MODIFIED:20251004T215104Z
UID:27932-1759564800-1759590000@www.simimasons.org
SUMMARY:Amaranth Meeting 8am-3pm
DESCRIPTION:
URL:https://www.simimasons.org/event/amaranth-meeting-8am-3pm-56/
END:VEVENT
BEGIN:VEVENT
DTSTART;TZID=America/Los_Angeles:20251006T170000
DTEND;TZID=America/Los_Angeles:20251006T220000
DTSTAMP:20260425T143846
CREATED:20250320T055449Z
LAST-MODIFIED:20251007T040605Z
UID:27935-1759770000-1759788000@www.simimasons.org
SUMMARY:Mason’s TBD
DESCRIPTION:
URL:https://www.simimasons.org/event/masons-tbd-33/
END:VEVENT
BEGIN:VEVENT
DTSTART;TZID=America/Los_Angeles:20251007T113000
DTEND;TZID=America/Los_Angeles:20251007T153000
DTSTAMP:20260425T143846
CREATED:20251007T202131Z
LAST-MODIFIED:20251007T212817Z
UID:32564-1759836600-1759851000@www.simimasons.org
SUMMARY:Oddfellows Feeding Homeless
DESCRIPTION:
URL:https://www.simimasons.org/event/oddfellows-feeding-homeless/
END:VEVENT
BEGIN:VEVENT
DTSTART;TZID=America/Los_Angeles:20251008T170000
DTEND;TZID=America/Los_Angeles:20251008T220000
DTSTAMP:20260425T143846
CREATED:20250325T052509Z
LAST-MODIFIED:20251009T035548Z
UID:28043-1759942800-1759960800@www.simimasons.org
SUMMARY:Masons
DESCRIPTION:
URL:https://www.simimasons.org/event/masons-353/
END:VEVENT
BEGIN:VEVENT
DTSTART;TZID=America/Los_Angeles:20251011T090000
DTEND;TZID=America/Los_Angeles:20251011T140000
DTSTAMP:20260425T143846
CREATED:20250326T002614Z
LAST-MODIFIED:20251011T195209Z
UID:28062-1760173200-1760191200@www.simimasons.org
SUMMARY:Oddfellows
DESCRIPTION:
URL:https://www.simimasons.org/event/oddfellows-9/
END:VEVENT
BEGIN:VEVENT
DTSTART;TZID=America/Los_Angeles:20251013T170000
DTEND;TZID=America/Los_Angeles:20251013T220000
DTSTAMP:20260425T143846
CREATED:20250327T054320Z
LAST-MODIFIED:20251014T040053Z
UID:28090-1760374800-1760392800@www.simimasons.org
SUMMARY:Mason’s TBD
DESCRIPTION:
URL:https://www.simimasons.org/event/masons-tbd-34/
END:VEVENT
BEGIN:VEVENT
DTSTART;TZID=America/Los_Angeles:20251015T170000
DTEND;TZID=America/Los_Angeles:20251015T220000
DTSTAMP:20260425T143846
CREATED:20250402T052652Z
LAST-MODIFIED:20251016T042305Z
UID:28220-1760547600-1760565600@www.simimasons.org
SUMMARY:Masons
DESCRIPTION:
URL:https://www.simimasons.org/event/masons-354/
END:VEVENT
BEGIN:VEVENT
DTSTART;TZID=America/Los_Angeles:20251016T180000
DTEND;TZID=America/Los_Angeles:20251016T210000
DTSTAMP:20260425T143846
CREATED:20250403T053936Z
LAST-MODIFIED:20251017T032735Z
UID:28244-1760637600-1760648400@www.simimasons.org
SUMMARY:SVMBA
DESCRIPTION:Meeting begins at 7:00pm
URL:https://www.simimasons.org/event/svmba-33/
END:VEVENT
BEGIN:VEVENT
DTSTART;TZID=America/Los_Angeles:20251020T170000
DTEND;TZID=America/Los_Angeles:20251020T220000
DTSTAMP:20260425T143846
CREATED:20250405T221352Z
LAST-MODIFIED:20251021T042526Z
UID:28303-1760979600-1760997600@www.simimasons.org
SUMMARY:Mason’s TBD
DESCRIPTION:
URL:https://www.simimasons.org/event/masons-tbd-35/
END:VEVENT
BEGIN:VEVENT
DTSTART;TZID=America/Los_Angeles:20251022T170000
DTEND;TZID=America/Los_Angeles:20251022T220000
DTSTAMP:20260425T143846
CREATED:20250409T004145Z
LAST-MODIFIED:20251023T045653Z
UID:28371-1761152400-1761170400@www.simimasons.org
SUMMARY:Masons
DESCRIPTION:
URL:https://www.simimasons.org/event/masons-355/
END:VEVENT
BEGIN:VEVENT
DTSTART;TZID=America/Los_Angeles:20251027T170000
DTEND;TZID=America/Los_Angeles:20251027T220000
DTSTAMP:20260425T143846
CREATED:20250413T010938Z
LAST-MODIFIED:20251028T041026Z
UID:28458-1761584400-1761602400@www.simimasons.org
SUMMARY:Mason’s TBD
DESCRIPTION:
URL:https://www.simimasons.org/event/masons-tbd-36/
END:VEVENT
BEGIN:VEVENT
DTSTART;TZID=America/Los_Angeles:20251029T180000
DTEND;TZID=America/Los_Angeles:20251029T230000
DTSTAMP:20260425T143846
CREATED:20250416T055502Z
LAST-MODIFIED:20251030T045329Z
UID:28529-1761760800-1761778800@www.simimasons.org
SUMMARY:Masons
DESCRIPTION:
URL:https://www.simimasons.org/event/masons-356/
END:VEVENT
BEGIN:VEVENT
DTSTART;TZID=America/Los_Angeles:20251031T170000
DTEND;TZID=America/Los_Angeles:20251031T200000
DTSTAMP:20260425T143846
CREATED:20250417T062322Z
LAST-MODIFIED:20251101T022420Z
UID:28552-1761930000-1761940800@www.simimasons.org
SUMMARY:Lodge Trunk or Treat
DESCRIPTION:
URL:https://www.simimasons.org/event/lodge-trunk-or-treat/
END:VEVENT
END:VCALENDAR