BEGIN:VCALENDAR
VERSION:2.0
PRODID:-//Simi Valley Masonic Lodge - ECPv6.15.20//NONSGML v1.0//EN
CALSCALE:GREGORIAN
METHOD:PUBLISH
X-WR-CALNAME:Simi Valley Masonic Lodge
X-ORIGINAL-URL:https://www.simimasons.org
X-WR-CALDESC:Events for Simi Valley Masonic Lodge
REFRESH-INTERVAL;VALUE=DURATION:PT1H
X-Robots-Tag:noindex
X-PUBLISHED-TTL:PT1H
BEGIN:VTIMEZONE
TZID:America/Los_Angeles
BEGIN:DAYLIGHT
TZOFFSETFROM:-0800
TZOFFSETTO:-0700
TZNAME:PDT
DTSTART:20250309T100000
END:DAYLIGHT
BEGIN:STANDARD
TZOFFSETFROM:-0700
TZOFFSETTO:-0800
TZNAME:PST
DTSTART:20251102T090000
END:STANDARD
BEGIN:DAYLIGHT
TZOFFSETFROM:-0800
TZOFFSETTO:-0700
TZNAME:PDT
DTSTART:20260308T100000
END:DAYLIGHT
BEGIN:STANDARD
TZOFFSETFROM:-0700
TZOFFSETTO:-0800
TZNAME:PST
DTSTART:20261101T090000
END:STANDARD
BEGIN:DAYLIGHT
TZOFFSETFROM:-0800
TZOFFSETTO:-0700
TZNAME:PDT
DTSTART:20270314T100000
END:DAYLIGHT
BEGIN:STANDARD
TZOFFSETFROM:-0700
TZOFFSETTO:-0800
TZNAME:PST
DTSTART:20271107T090000
END:STANDARD
END:VTIMEZONE
BEGIN:VEVENT
DTSTART;TZID=America/Los_Angeles:20260622T170000
DTEND;TZID=America/Los_Angeles:20260622T220000
DTSTAMP:20260425T172448
CREATED:20251221T120105Z
LAST-MODIFIED:20260426T000058Z
UID:34159-1782147600-1782165600@www.simimasons.org
SUMMARY:Mason’s TBD
DESCRIPTION:
URL:https://www.simimasons.org/event/masons-tbd-70/
END:VEVENT
BEGIN:VEVENT
DTSTART;TZID=America/Los_Angeles:20260624T170000
DTEND;TZID=America/Los_Angeles:20260624T220000
DTSTAMP:20260425T172448
CREATED:20260124T223104Z
LAST-MODIFIED:20260426T000058Z
UID:34978-1782320400-1782338400@www.simimasons.org
SUMMARY:Masons
DESCRIPTION:
URL:https://www.simimasons.org/event/masons-403/
END:VEVENT
BEGIN:VEVENT
DTSTART;TZID=America/Los_Angeles:20260629T170000
DTEND;TZID=America/Los_Angeles:20260629T220000
DTSTAMP:20260425T172448
CREATED:20251224T021642Z
LAST-MODIFIED:20260426T000109Z
UID:34229-1782752400-1782770400@www.simimasons.org
SUMMARY:Mason’s TBD
DESCRIPTION:
URL:https://www.simimasons.org/event/masons-tbd-71/
END:VEVENT
BEGIN:VEVENT
DTSTART;TZID=America/Los_Angeles:20260701T170000
DTEND;TZID=America/Los_Angeles:20260701T220000
DTSTAMP:20260425T172448
CREATED:20260124T223105Z
LAST-MODIFIED:20260426T000109Z
UID:34979-1782925200-1782943200@www.simimasons.org
SUMMARY:Masons
DESCRIPTION:
URL:https://www.simimasons.org/event/masons-404/
END:VEVENT
BEGIN:VEVENT
DTSTART;TZID=America/Los_Angeles:20260701T183000
DTEND;TZID=America/Los_Angeles:20260701T193000
DTSTAMP:20260425T172448
CREATED:20251224T070628Z
LAST-MODIFIED:20260426T000109Z
UID:34235-1782930600-1782934200@www.simimasons.org
SUMMARY:Masons Stated Meeting
DESCRIPTION:Dinner served at 6:00pm. Stated Meeting begins at 7:30pm
URL:https://www.simimasons.org/event/masons-stated-meeting-8/
END:VEVENT
BEGIN:VEVENT
DTSTART;TZID=America/Los_Angeles:20260704T080000
DTEND;TZID=America/Los_Angeles:20260704T150000
DTSTAMP:20260425T172448
CREATED:20251225T060346Z
LAST-MODIFIED:20260426T000110Z
UID:34258-1783152000-1783177200@www.simimasons.org
SUMMARY:Amaranth DARK
DESCRIPTION:
URL:https://www.simimasons.org/event/amaranth-dark/
END:VEVENT
BEGIN:VEVENT
DTSTART;TZID=America/Los_Angeles:20260706T170000
DTEND;TZID=America/Los_Angeles:20260706T220000
DTSTAMP:20260425T172448
CREATED:20251230T061610Z
LAST-MODIFIED:20260426T000110Z
UID:34366-1783357200-1783375200@www.simimasons.org
SUMMARY:Mason’s TBD
DESCRIPTION:
URL:https://www.simimasons.org/event/masons-tbd-72/
END:VEVENT
BEGIN:VEVENT
DTSTART;TZID=America/Los_Angeles:20260708T170000
DTEND;TZID=America/Los_Angeles:20260708T220000
DTSTAMP:20260425T172448
CREATED:20260129T070321Z
LAST-MODIFIED:20260426T000110Z
UID:35112-1783530000-1783548000@www.simimasons.org
SUMMARY:Masons
DESCRIPTION:
URL:https://www.simimasons.org/event/masons-405/
END:VEVENT
BEGIN:VEVENT
DTSTART;TZID=America/Los_Angeles:20260715T170000
DTEND;TZID=America/Los_Angeles:20260715T220000
DTSTAMP:20260425T172448
CREATED:20260204T002020Z
LAST-MODIFIED:20260426T000121Z
UID:35235-1784134800-1784152800@www.simimasons.org
SUMMARY:Masons
DESCRIPTION:
URL:https://www.simimasons.org/event/masons-406/
END:VEVENT
BEGIN:VEVENT
DTSTART;TZID=America/Los_Angeles:20260722T170000
DTEND;TZID=America/Los_Angeles:20260722T220000
DTSTAMP:20260425T172448
CREATED:20260207T235428Z
LAST-MODIFIED:20260426T000122Z
UID:35322-1784739600-1784757600@www.simimasons.org
SUMMARY:Masons
DESCRIPTION:
URL:https://www.simimasons.org/event/masons-407/
END:VEVENT
BEGIN:VEVENT
DTSTART;TZID=America/Los_Angeles:20260729T170000
DTEND;TZID=America/Los_Angeles:20260729T220000
DTSTAMP:20260425T172448
CREATED:20260213T070724Z
LAST-MODIFIED:20260426T000122Z
UID:35436-1785344400-1785362400@www.simimasons.org
SUMMARY:Masons
DESCRIPTION:
URL:https://www.simimasons.org/event/masons-408/
END:VEVENT
BEGIN:VEVENT
DTSTART;TZID=America/Los_Angeles:20260811T160000
DTEND;TZID=America/Los_Angeles:20260811T220000
DTSTAMP:20260425T172448
CREATED:20260303T065056Z
LAST-MODIFIED:20260426T000133Z
UID:35824-1786464000-1786485600@www.simimasons.org
SUMMARY:Oddfellows 4-10 pm
DESCRIPTION:
URL:https://www.simimasons.org/event/oddfellows-4-10-pm-21/
END:VEVENT
BEGIN:VEVENT
DTSTART;TZID=America/Los_Angeles:20260812T170000
DTEND;TZID=America/Los_Angeles:20260812T220000
DTSTAMP:20260425T172448
CREATED:20260303T233208Z
LAST-MODIFIED:20260426T000133Z
UID:35841-1786554000-1786572000@www.simimasons.org
SUMMARY:Masons
DESCRIPTION:
URL:https://www.simimasons.org/event/masons-410/
END:VEVENT
BEGIN:VEVENT
DTSTART;TZID=America/Los_Angeles:20260817T170000
DTEND;TZID=America/Los_Angeles:20260817T220000
DTSTAMP:20260425T172448
CREATED:20260304T065142Z
LAST-MODIFIED:20260426T000134Z
UID:35849-1786986000-1787004000@www.simimasons.org
SUMMARY:Mason’s TBD
DESCRIPTION:
URL:https://www.simimasons.org/event/masons-tbd-78/
END:VEVENT
BEGIN:VEVENT
DTSTART;TZID=America/Los_Angeles:20260818T164500
DTEND;TZID=America/Los_Angeles:20260818T220000
DTSTAMP:20260425T172448
CREATED:20260305T035027Z
LAST-MODIFIED:20260426T000145Z
UID:35869-1787071500-1787090400@www.simimasons.org
SUMMARY:Jobs meeting 4-10 pm
DESCRIPTION:
URL:https://www.simimasons.org/event/jobs-meeting-4-10-pm-110/
END:VEVENT
BEGIN:VEVENT
DTSTART;TZID=America/Los_Angeles:20260819T170000
DTEND;TZID=America/Los_Angeles:20260819T220000
DTSTAMP:20260425T172448
CREATED:20260305T060628Z
LAST-MODIFIED:20260426T000146Z
UID:35873-1787158800-1787176800@www.simimasons.org
SUMMARY:Masons
DESCRIPTION:
URL:https://www.simimasons.org/event/masons-411/
END:VEVENT
BEGIN:VEVENT
DTSTART;TZID=America/Los_Angeles:20260820T180000
DTEND;TZID=America/Los_Angeles:20260820T210000
DTSTAMP:20260425T172448
CREATED:20260307T232049Z
LAST-MODIFIED:20260426T000146Z
UID:35932-1787248800-1787259600@www.simimasons.org
SUMMARY:SVMBA
DESCRIPTION:Meeting begins at 7:00pm
URL:https://www.simimasons.org/event/svmba-43/
END:VEVENT
BEGIN:VEVENT
DTSTART;TZID=America/Los_Angeles:20260824T170000
DTEND;TZID=America/Los_Angeles:20260824T220000
DTSTAMP:20260425T172448
CREATED:20260309T230635Z
LAST-MODIFIED:20260426T000146Z
UID:35976-1787590800-1787608800@www.simimasons.org
SUMMARY:Mason’s TBD
DESCRIPTION:
URL:https://www.simimasons.org/event/masons-tbd-79/
END:VEVENT
BEGIN:VEVENT
DTSTART;TZID=America/Los_Angeles:20260825T160000
DTEND;TZID=America/Los_Angeles:20260825T220000
DTSTAMP:20260425T172448
CREATED:20260310T052007Z
LAST-MODIFIED:20260426T000148Z
UID:35984-1787673600-1787695200@www.simimasons.org
SUMMARY:Oddfellows 4-10 pm
DESCRIPTION:
URL:https://www.simimasons.org/event/oddfellows-4-10-pm-22/
END:VEVENT
BEGIN:VEVENT
DTSTART;TZID=America/Los_Angeles:20260826T170000
DTEND;TZID=America/Los_Angeles:20260826T220000
DTSTAMP:20260425T172448
CREATED:20260311T052619Z
LAST-MODIFIED:20260426T000148Z
UID:36007-1787763600-1787781600@www.simimasons.org
SUMMARY:Masons
DESCRIPTION:
URL:https://www.simimasons.org/event/masons-412/
END:VEVENT
BEGIN:VEVENT
DTSTART;TZID=America/Los_Angeles:20260831T170000
DTEND;TZID=America/Los_Angeles:20260831T220000
DTSTAMP:20260425T172448
CREATED:20260312T050524Z
LAST-MODIFIED:20260426T000148Z
UID:36030-1788195600-1788213600@www.simimasons.org
SUMMARY:Mason’s TBD
DESCRIPTION:
URL:https://www.simimasons.org/event/masons-tbd-80/
END:VEVENT
BEGIN:VEVENT
DTSTART;TZID=America/Los_Angeles:20260901T113000
DTEND;TZID=America/Los_Angeles:20260901T153000
DTSTAMP:20260425T172448
CREATED:20260317T053520Z
LAST-MODIFIED:20260426T000148Z
UID:36140-1788262200-1788276600@www.simimasons.org
SUMMARY:Oddfellows Feeding Homeless
DESCRIPTION:
URL:https://www.simimasons.org/event/oddfellows-feeding-homeless-12/
END:VEVENT
BEGIN:VEVENT
DTSTART;TZID=America/Los_Angeles:20260901T160000
DTEND;TZID=America/Los_Angeles:20260901T220000
DTSTAMP:20260425T172448
CREATED:20260318T053504Z
LAST-MODIFIED:20260426T000149Z
UID:36163-1788278400-1788300000@www.simimasons.org
SUMMARY:Jobs meeting 4-10 pm
DESCRIPTION:
URL:https://www.simimasons.org/event/jobs-meeting-4-10-pm-111/
END:VEVENT
BEGIN:VEVENT
DTSTART;TZID=America/Los_Angeles:20260905T080000
DTEND;TZID=America/Los_Angeles:20260905T150000
DTSTAMP:20260425T172448
CREATED:20260324T051422Z
LAST-MODIFIED:20260426T000200Z
UID:36321-1788595200-1788620400@www.simimasons.org
SUMMARY:Amaranth Meeting 8am-3pm
DESCRIPTION:
URL:https://www.simimasons.org/event/amaranth-meeting-8am-3pm-66/
END:VEVENT
BEGIN:VEVENT
DTSTART;TZID=America/Los_Angeles:20260907T170000
DTEND;TZID=America/Los_Angeles:20260907T220000
DTSTAMP:20260425T172448
CREATED:20260325T053817Z
LAST-MODIFIED:20260426T000200Z
UID:36347-1788800400-1788818400@www.simimasons.org
SUMMARY:Mason’s TBD
DESCRIPTION:
URL:https://www.simimasons.org/event/masons-tbd-81/
END:VEVENT
BEGIN:VEVENT
DTSTART;TZID=America/Los_Angeles:20260908T160000
DTEND;TZID=America/Los_Angeles:20260908T220000
DTSTAMP:20260425T172448
CREATED:20260326T003844Z
LAST-MODIFIED:20260426T000200Z
UID:36366-1788883200-1788904800@www.simimasons.org
SUMMARY:Oddfellows 4-10 pm
DESCRIPTION:
URL:https://www.simimasons.org/event/oddfellows-4-10-pm-23/
END:VEVENT
BEGIN:VEVENT
DTSTART;TZID=America/Los_Angeles:20260909T170000
DTEND;TZID=America/Los_Angeles:20260909T220000
DTSTAMP:20260425T172448
CREATED:20260326T052009Z
LAST-MODIFIED:20260426T000200Z
UID:36372-1788973200-1788991200@www.simimasons.org
SUMMARY:Masons
DESCRIPTION:
URL:https://www.simimasons.org/event/masons-414/
END:VEVENT
BEGIN:VEVENT
DTSTART;TZID=America/Los_Angeles:20260914T080000
DTEND;TZID=America/Los_Angeles:20260914T090000
DTSTAMP:20260425T172448
CREATED:20260331T052005Z
LAST-MODIFIED:20260426T000201Z
UID:36493-1789372800-1789376400@www.simimasons.org
SUMMARY:Life Line
DESCRIPTION:
URL:https://www.simimasons.org/event/life-line-2/
END:VEVENT
BEGIN:VEVENT
DTSTART;TZID=America/Los_Angeles:20260914T170000
DTEND;TZID=America/Los_Angeles:20260914T220000
DTSTAMP:20260425T172448
CREATED:20260402T023745Z
LAST-MODIFIED:20260426T000201Z
UID:36549-1789405200-1789423200@www.simimasons.org
SUMMARY:Mason’s TBD
DESCRIPTION:
URL:https://www.simimasons.org/event/masons-tbd-82/
END:VEVENT
BEGIN:VEVENT
DTSTART;TZID=America/Los_Angeles:20260915T164500
DTEND;TZID=America/Los_Angeles:20260915T220000
DTSTAMP:20260425T172448
CREATED:20260402T051808Z
LAST-MODIFIED:20260426T000201Z
UID:36553-1789490700-1789509600@www.simimasons.org
SUMMARY:Jobs meeting 4-10 pm
DESCRIPTION:
URL:https://www.simimasons.org/event/jobs-meeting-4-10-pm-112/
END:VEVENT
END:VCALENDAR