BEGIN:VCALENDAR
VERSION:2.0
PRODID:-//Simi Valley Masonic Lodge - ECPv6.15.20//NONSGML v1.0//EN
CALSCALE:GREGORIAN
METHOD:PUBLISH
X-ORIGINAL-URL:https://www.simimasons.org
X-WR-CALDESC:Events for Simi Valley Masonic Lodge
REFRESH-INTERVAL;VALUE=DURATION:PT1H
X-Robots-Tag:noindex
X-PUBLISHED-TTL:PT1H
BEGIN:VTIMEZONE
TZID:America/Los_Angeles
BEGIN:DAYLIGHT
TZOFFSETFROM:-0800
TZOFFSETTO:-0700
TZNAME:PDT
DTSTART:20240310T100000
END:DAYLIGHT
BEGIN:STANDARD
TZOFFSETFROM:-0700
TZOFFSETTO:-0800
TZNAME:PST
DTSTART:20241103T090000
END:STANDARD
BEGIN:DAYLIGHT
TZOFFSETFROM:-0800
TZOFFSETTO:-0700
TZNAME:PDT
DTSTART:20250309T100000
END:DAYLIGHT
BEGIN:STANDARD
TZOFFSETFROM:-0700
TZOFFSETTO:-0800
TZNAME:PST
DTSTART:20251102T090000
END:STANDARD
BEGIN:DAYLIGHT
TZOFFSETFROM:-0800
TZOFFSETTO:-0700
TZNAME:PDT
DTSTART:20260308T100000
END:DAYLIGHT
BEGIN:STANDARD
TZOFFSETFROM:-0700
TZOFFSETTO:-0800
TZNAME:PST
DTSTART:20261101T090000
END:STANDARD
BEGIN:DAYLIGHT
TZOFFSETFROM:-0800
TZOFFSETTO:-0700
TZNAME:PDT
DTSTART:20270314T100000
END:DAYLIGHT
BEGIN:STANDARD
TZOFFSETFROM:-0700
TZOFFSETTO:-0800
TZNAME:PST
DTSTART:20271107T090000
END:STANDARD
END:VTIMEZONE
BEGIN:VEVENT
DTSTART;TZID=America/Los_Angeles:20251215T170000
DTEND;TZID=America/Los_Angeles:20251215T220000
DTSTAMP:20260425T144241
CREATED:20250614T183842Z
LAST-MODIFIED:20251216T051927Z
UID:29848-1765818000-1765836000@www.simimasons.org
SUMMARY:Mason’s TBD
DESCRIPTION:
URL:https://www.simimasons.org/event/masons-tbd-43/
END:VEVENT
BEGIN:VEVENT
DTSTART;TZID=America/Los_Angeles:20251216T164500
DTEND;TZID=America/Los_Angeles:20251216T220000
DTSTAMP:20260425T144241
CREATED:20250614T215337Z
LAST-MODIFIED:20251216T234355Z
UID:29853-1765903500-1765922400@www.simimasons.org
SUMMARY:Jobs meeting 4-10 pm
DESCRIPTION:
URL:https://www.simimasons.org/event/jobs-meeting-4-10-pm-94/
END:VEVENT
BEGIN:VEVENT
DTSTART;TZID=America/Los_Angeles:20251217T180000
DTEND;TZID=America/Los_Angeles:20251217T230000
DTSTAMP:20260425T144241
CREATED:20250617T182338Z
LAST-MODIFIED:20251216T234355Z
UID:29991-1765994400-1766012400@www.simimasons.org
SUMMARY:Masons: Joey Rebbe 3rd°
DESCRIPTION:Open lodge at 6:30pm
URL:https://www.simimasons.org/event/masons-363/
END:VEVENT
BEGIN:VEVENT
DTSTART;TZID=America/Los_Angeles:20251218T180000
DTEND;TZID=America/Los_Angeles:20251218T210000
DTSTAMP:20260425T144241
CREATED:20250617T182339Z
LAST-MODIFIED:20251216T234355Z
UID:29992-1766080800-1766091600@www.simimasons.org
SUMMARY:SVMBA
DESCRIPTION:Meeting begins at 7:00pm
URL:https://www.simimasons.org/event/svmba-35/
END:VEVENT
BEGIN:VEVENT
DTSTART;TZID=America/Los_Angeles:20251222T170000
DTEND;TZID=America/Los_Angeles:20251222T220000
DTSTAMP:20260425T144241
CREATED:20250620T050921Z
LAST-MODIFIED:20251223T014512Z
UID:30121-1766422800-1766440800@www.simimasons.org
SUMMARY:Mason’s TBD
DESCRIPTION:
URL:https://www.simimasons.org/event/masons-tbd-44/
END:VEVENT
BEGIN:VEVENT
DTSTART;VALUE=DATE:20251223
DTEND;VALUE=DATE:20251224
DTSTAMP:20260425T144241
CREATED:20250624T060840Z
LAST-MODIFIED:20251223T234536Z
UID:30209-1766448000-1766534399@www.simimasons.org
SUMMARY:The Odd Fellows 4-10 pm
DESCRIPTION:
URL:https://www.simimasons.org/event/the-odd-fellows-4-10-pm-97/
END:VEVENT
BEGIN:VEVENT
DTSTART;TZID=America/Los_Angeles:20251223T140000
DTEND;TZID=America/Los_Angeles:20251223T220000
DTSTAMP:20260425T144241
CREATED:20251221T115853Z
LAST-MODIFIED:20251224T055305Z
UID:34147-1766498400-1766527200@www.simimasons.org
SUMMARY:Floor Cleaning
DESCRIPTION:
URL:https://www.simimasons.org/event/floor-cleaning/
END:VEVENT
BEGIN:VEVENT
DTSTART;TZID=America/Los_Angeles:20251223T170000
DTEND;TZID=America/Los_Angeles:20251223T173000
DTSTAMP:20260425T144241
CREATED:20251221T115853Z
LAST-MODIFIED:20251224T010022Z
UID:34146-1766509200-1766511000@www.simimasons.org
SUMMARY:Oddfellows Dark
DESCRIPTION:
URL:https://www.simimasons.org/event/oddfellows-dark/
END:VEVENT
BEGIN:VEVENT
DTSTART;TZID=America/Los_Angeles:20251224T170000
DTEND;TZID=America/Los_Angeles:20251224T220000
DTSTAMP:20260425T144241
CREATED:20250625T005405Z
LAST-MODIFIED:20251225T044554Z
UID:30227-1766595600-1766613600@www.simimasons.org
SUMMARY:Masons
DESCRIPTION:
URL:https://www.simimasons.org/event/masons-364/
END:VEVENT
BEGIN:VEVENT
DTSTART;TZID=America/Los_Angeles:20251229T170000
DTEND;TZID=America/Los_Angeles:20251229T220000
DTSTAMP:20260425T144241
CREATED:20250626T052357Z
LAST-MODIFIED:20251230T050308Z
UID:30254-1767027600-1767045600@www.simimasons.org
SUMMARY:Mason’s TBD
DESCRIPTION:
URL:https://www.simimasons.org/event/masons-tbd-45/
END:VEVENT
BEGIN:VEVENT
DTSTART;TZID=America/Los_Angeles:20251231T170000
DTEND;TZID=America/Los_Angeles:20251231T220000
DTSTAMP:20260425T144241
CREATED:20250701T052331Z
LAST-MODIFIED:20260101T051348Z
UID:30361-1767200400-1767218400@www.simimasons.org
SUMMARY:Masons
DESCRIPTION:
URL:https://www.simimasons.org/event/masons-365/
END:VEVENT
BEGIN:VEVENT
DTSTART;TZID=America/Los_Angeles:20260103T080000
DTEND;TZID=America/Los_Angeles:20260103T150000
DTSTAMP:20260425T144241
CREATED:20250702T052409Z
LAST-MODIFIED:20260103T224439Z
UID:30385-1767427200-1767452400@www.simimasons.org
SUMMARY:Amaranth Meeting 8am-3pm
DESCRIPTION:
URL:https://www.simimasons.org/event/amaranth-meeting-8am-3pm-59/
END:VEVENT
BEGIN:VEVENT
DTSTART;TZID=America/Los_Angeles:20260105T170000
DTEND;TZID=America/Los_Angeles:20260105T220000
DTSTAMP:20260425T144241
CREATED:20250703T055335Z
LAST-MODIFIED:20260106T045848Z
UID:30408-1767632400-1767650400@www.simimasons.org
SUMMARY:Mason’s TBD
DESCRIPTION:
URL:https://www.simimasons.org/event/masons-tbd-46/
END:VEVENT
BEGIN:VEVENT
DTSTART;TZID=America/Los_Angeles:20260106T113000
DTEND;TZID=America/Los_Angeles:20260106T153000
DTSTAMP:20260425T144241
CREATED:20251007T202243Z
LAST-MODIFIED:20260106T232957Z
UID:32567-1767699000-1767713400@www.simimasons.org
SUMMARY:Oddfellows Feeding Homeless
DESCRIPTION:
URL:https://www.simimasons.org/event/oddfellows-feeding-homeless-4/
END:VEVENT
BEGIN:VEVENT
DTSTART;TZID=America/Los_Angeles:20260106T160000
DTEND;TZID=America/Los_Angeles:20260106T220000
DTSTAMP:20260425T144241
CREATED:20250705T225616Z
LAST-MODIFIED:20260107T044632Z
UID:30467-1767715200-1767736800@www.simimasons.org
SUMMARY:Jobs meeting 4-10 pm
DESCRIPTION:
URL:https://www.simimasons.org/event/jobs-meeting-4-10-pm-95/
END:VEVENT
BEGIN:VEVENT
DTSTART;TZID=America/Los_Angeles:20260107T170000
DTEND;TZID=America/Los_Angeles:20260107T220000
DTSTAMP:20260425T144241
CREATED:20250708T055426Z
LAST-MODIFIED:20260108T055846Z
UID:30518-1767805200-1767823200@www.simimasons.org
SUMMARY:Masons
DESCRIPTION:
URL:https://www.simimasons.org/event/masons-366/
END:VEVENT
BEGIN:VEVENT
DTSTART;TZID=America/Los_Angeles:20260107T183000
DTEND;TZID=America/Los_Angeles:20260107T193000
DTSTAMP:20260425T144241
CREATED:20251104T022443Z
LAST-MODIFIED:20260108T024656Z
UID:33180-1767810600-1767814200@www.simimasons.org
SUMMARY:Masons Stated Meeting
DESCRIPTION:Dinner served at 6:00pm. Stated Meeting begins at 7:30pm
URL:https://www.simimasons.org/event/masons-stated-meeting-2/
END:VEVENT
BEGIN:VEVENT
DTSTART;TZID=America/Los_Angeles:20260108T120000
DTEND;TZID=America/Los_Angeles:20260108T220000
DTSTAMP:20260425T144241
CREATED:20251007T052220Z
LAST-MODIFIED:20260109T051818Z
UID:32547-1767873600-1767909600@www.simimasons.org
SUMMARY:Lodge Installation Setup
DESCRIPTION:
URL:https://www.simimasons.org/event/lodge-installation-setup-2/
END:VEVENT
BEGIN:VEVENT
DTSTART;TZID=America/Los_Angeles:20260109T150000
DTEND;TZID=America/Los_Angeles:20260109T220000
DTSTAMP:20260425T144241
CREATED:20251007T052220Z
LAST-MODIFIED:20260110T051456Z
UID:32548-1767970800-1767996000@www.simimasons.org
SUMMARY:Masons Installation of 2026 Officers
DESCRIPTION:Installation begins at 6:30pm
URL:https://www.simimasons.org/event/masons-installation-of-2026-officers/
END:VEVENT
BEGIN:VEVENT
DTSTART;TZID=America/Los_Angeles:20260112T170000
DTEND;TZID=America/Los_Angeles:20260112T220000
DTSTAMP:20260425T144241
CREATED:20250710T062408Z
LAST-MODIFIED:20260113T055047Z
UID:30565-1768237200-1768255200@www.simimasons.org
SUMMARY:Mason’s TBD
DESCRIPTION:
URL:https://www.simimasons.org/event/masons-tbd-47/
END:VEVENT
BEGIN:VEVENT
DTSTART;TZID=America/Los_Angeles:20260113T160000
DTEND;TZID=America/Los_Angeles:20260113T220000
DTSTAMP:20260425T144241
CREATED:20251221T115909Z
LAST-MODIFIED:20260114T053022Z
UID:34148-1768320000-1768341600@www.simimasons.org
SUMMARY:Oddfellows 4-10 pm
DESCRIPTION:
URL:https://www.simimasons.org/event/oddfellows-4-10-pm-7/
END:VEVENT
BEGIN:VEVENT
DTSTART;TZID=America/Los_Angeles:20260114T170000
DTEND;TZID=America/Los_Angeles:20260114T220000
DTSTAMP:20260425T144241
CREATED:20250715T053832Z
LAST-MODIFIED:20260115T051800Z
UID:30672-1768410000-1768428000@www.simimasons.org
SUMMARY:Masons
DESCRIPTION:
URL:https://www.simimasons.org/event/masons-367/
END:VEVENT
BEGIN:VEVENT
DTSTART;TZID=America/Los_Angeles:20260115T180000
DTEND;TZID=America/Los_Angeles:20260115T210000
DTSTAMP:20260425T144241
CREATED:20250716T052356Z
LAST-MODIFIED:20260116T041909Z
UID:30695-1768500000-1768510800@www.simimasons.org
SUMMARY:SVMBA
DESCRIPTION:Meeting begins at 7:00pm
URL:https://www.simimasons.org/event/svmba-36/
END:VEVENT
BEGIN:VEVENT
DTSTART;TZID=America/Los_Angeles:20260117T090000
DTEND;TZID=America/Los_Angeles:20260117T170000
DTSTAMP:20260425T144241
CREATED:20251208T233247Z
LAST-MODIFIED:20260118T000306Z
UID:33983-1768640400-1768669200@www.simimasons.org
SUMMARY:First Aid / CPR Training
DESCRIPTION:
URL:https://www.simimasons.org/event/first-aid-cpr-training/
END:VEVENT
BEGIN:VEVENT
DTSTART;TZID=America/Los_Angeles:20260119T170000
DTEND;TZID=America/Los_Angeles:20260119T220000
DTSTAMP:20260425T144241
CREATED:20250717T055432Z
LAST-MODIFIED:20260120T050033Z
UID:30718-1768842000-1768860000@www.simimasons.org
SUMMARY:Mason’s TBD
DESCRIPTION:
URL:https://www.simimasons.org/event/masons-tbd-48/
END:VEVENT
BEGIN:VEVENT
DTSTART;TZID=America/Los_Angeles:20260120T164500
DTEND;TZID=America/Los_Angeles:20260120T220000
DTSTAMP:20260425T144241
CREATED:20250718T040847Z
LAST-MODIFIED:20260121T050201Z
UID:30739-1768927500-1768946400@www.simimasons.org
SUMMARY:Jobs meeting 4-10 pm
DESCRIPTION:
URL:https://www.simimasons.org/event/jobs-meeting-4-10-pm-96/
END:VEVENT
BEGIN:VEVENT
DTSTART;TZID=America/Los_Angeles:20260121T170000
DTEND;TZID=America/Los_Angeles:20260121T220000
DTSTAMP:20260425T144241
CREATED:20250722T050942Z
LAST-MODIFIED:20260122T052848Z
UID:30827-1769014800-1769032800@www.simimasons.org
SUMMARY:Masons
DESCRIPTION:
URL:https://www.simimasons.org/event/masons-368/
END:VEVENT
BEGIN:VEVENT
DTSTART;TZID=America/Los_Angeles:20260126T170000
DTEND;TZID=America/Los_Angeles:20260126T220000
DTSTAMP:20260425T144241
CREATED:20250724T053815Z
LAST-MODIFIED:20260127T054654Z
UID:30874-1769446800-1769464800@www.simimasons.org
SUMMARY:Mason’s TBD
DESCRIPTION:
URL:https://www.simimasons.org/event/masons-tbd-49/
END:VEVENT
BEGIN:VEVENT
DTSTART;TZID=America/Los_Angeles:20260127T160000
DTEND;TZID=America/Los_Angeles:20260127T220000
DTSTAMP:20260425T144241
CREATED:20251221T115923Z
LAST-MODIFIED:20260128T052114Z
UID:34149-1769529600-1769551200@www.simimasons.org
SUMMARY:Oddfellows 4-10 pm
DESCRIPTION:
URL:https://www.simimasons.org/event/oddfellows-4-10-pm-8/
END:VEVENT
BEGIN:VEVENT
DTSTART;TZID=America/Los_Angeles:20260128T180000
DTEND;TZID=America/Los_Angeles:20260128T230000
DTSTAMP:20260425T144241
CREATED:20260124T222852Z
LAST-MODIFIED:20260129T060109Z
UID:34954-1769623200-1769641200@www.simimasons.org
SUMMARY:Masons Juliano 3rd°
DESCRIPTION:
URL:https://www.simimasons.org/event/masons-juliano-3rd/
END:VEVENT
END:VCALENDAR