BEGIN:VCALENDAR
VERSION:2.0
PRODID:-//Simi Valley Masonic Lodge - ECPv6.15.20//NONSGML v1.0//EN
CALSCALE:GREGORIAN
METHOD:PUBLISH
X-ORIGINAL-URL:https://www.simimasons.org
X-WR-CALDESC:Events for Simi Valley Masonic Lodge
REFRESH-INTERVAL;VALUE=DURATION:PT1H
X-Robots-Tag:noindex
X-PUBLISHED-TTL:PT1H
BEGIN:VTIMEZONE
TZID:America/Los_Angeles
BEGIN:DAYLIGHT
TZOFFSETFROM:-0800
TZOFFSETTO:-0700
TZNAME:PDT
DTSTART:20250309T100000
END:DAYLIGHT
BEGIN:STANDARD
TZOFFSETFROM:-0700
TZOFFSETTO:-0800
TZNAME:PST
DTSTART:20251102T090000
END:STANDARD
BEGIN:DAYLIGHT
TZOFFSETFROM:-0800
TZOFFSETTO:-0700
TZNAME:PDT
DTSTART:20260308T100000
END:DAYLIGHT
BEGIN:STANDARD
TZOFFSETFROM:-0700
TZOFFSETTO:-0800
TZNAME:PST
DTSTART:20261101T090000
END:STANDARD
BEGIN:DAYLIGHT
TZOFFSETFROM:-0800
TZOFFSETTO:-0700
TZNAME:PDT
DTSTART:20270314T100000
END:DAYLIGHT
BEGIN:STANDARD
TZOFFSETFROM:-0700
TZOFFSETTO:-0800
TZNAME:PST
DTSTART:20271107T090000
END:STANDARD
END:VTIMEZONE
BEGIN:VEVENT
DTSTART;TZID=America/Los_Angeles:20260423T190000
DTEND;TZID=America/Los_Angeles:20260423T200000
DTSTAMP:20260425T091412
CREATED:20260413T030308Z
LAST-MODIFIED:20260424T024529Z
UID:36809-1776970800-1776974400@www.simimasons.org
SUMMARY:Thomas Van Eps 3rd°
DESCRIPTION:
URL:https://www.simimasons.org/event/thomas-van-eps-3rd/
LOCATION:Burbank Masonic Lodge\, 406 Irving Dr\, Burbank\, CA\, United States
END:VEVENT
BEGIN:VEVENT
DTSTART;TZID=America/Los_Angeles:20260422T170000
DTEND;TZID=America/Los_Angeles:20260422T220000
DTSTAMP:20260425T091412
CREATED:20260124T223004Z
LAST-MODIFIED:20260423T044959Z
UID:34968-1776877200-1776895200@www.simimasons.org
SUMMARY:Masons
DESCRIPTION:
URL:https://www.simimasons.org/event/masons-394/
END:VEVENT
BEGIN:VEVENT
DTSTART;TZID=America/Los_Angeles:20260415T183000
DTEND;TZID=America/Los_Angeles:20260415T233000
DTSTAMP:20260425T091412
CREATED:20260124T223004Z
LAST-MODIFIED:20260416T052427Z
UID:34967-1776277800-1776295800@www.simimasons.org
SUMMARY:Masons 1st° Sultan Malaeb
DESCRIPTION:
URL:https://www.simimasons.org/event/masons-393/
END:VEVENT
BEGIN:VEVENT
DTSTART;TZID=America/Los_Angeles:20260414T160000
DTEND;TZID=America/Los_Angeles:20260414T220000
DTSTAMP:20260425T091412
CREATED:20251221T120024Z
LAST-MODIFIED:20260415T040306Z
UID:34154-1776182400-1776204000@www.simimasons.org
SUMMARY:Oddfellows 4-10 pm
DESCRIPTION:
URL:https://www.simimasons.org/event/oddfellows-4-10-pm-13/
END:VEVENT
BEGIN:VEVENT
DTSTART;TZID=America/Los_Angeles:20260413T170000
DTEND;TZID=America/Los_Angeles:20260413T220000
DTSTAMP:20260425T091412
CREATED:20251022T052421Z
LAST-MODIFIED:20260414T040401Z
UID:32888-1776099600-1776117600@www.simimasons.org
SUMMARY:Mason’s TBD
DESCRIPTION:
URL:https://www.simimasons.org/event/masons-tbd-60/
END:VEVENT
BEGIN:VEVENT
DTSTART;TZID=America/Los_Angeles:20260408T170000
DTEND;TZID=America/Los_Angeles:20260408T220000
DTSTAMP:20260425T091412
CREATED:20260124T222951Z
LAST-MODIFIED:20260409T034807Z
UID:34966-1775667600-1775685600@www.simimasons.org
SUMMARY:Masons
DESCRIPTION:
URL:https://www.simimasons.org/event/masons-392/
END:VEVENT
BEGIN:VEVENT
DTSTART;TZID=America/Los_Angeles:20260407T113000
DTEND;TZID=America/Los_Angeles:20260407T153000
DTSTAMP:20260425T091412
CREATED:20251015T005345Z
LAST-MODIFIED:20260407T222355Z
UID:32730-1775561400-1775575800@www.simimasons.org
SUMMARY:Oddfellows Feeding Homeless
DESCRIPTION:
URL:https://www.simimasons.org/event/oddfellows-feeding-homeless-7/
END:VEVENT
BEGIN:VEVENT
DTSTART;TZID=America/Los_Angeles:20260401T183000
DTEND;TZID=America/Los_Angeles:20260401T193000
DTSTAMP:20260425T091412
CREATED:20251104T022555Z
LAST-MODIFIED:20260402T013346Z
UID:33183-1775068200-1775071800@www.simimasons.org
SUMMARY:Masons Stated Meeting
DESCRIPTION:Dinner served at 6:00pm. Stated Meeting begins at 7:30pm
URL:https://www.simimasons.org/event/masons-stated-meeting-5/
END:VEVENT
BEGIN:VEVENT
DTSTART;TZID=America/Los_Angeles:20260401T170000
DTEND;TZID=America/Los_Angeles:20260401T220000
DTSTAMP:20260425T091412
CREATED:20260124T222950Z
LAST-MODIFIED:20260402T035020Z
UID:34965-1775062800-1775080800@www.simimasons.org
SUMMARY:Masons
DESCRIPTION:
URL:https://www.simimasons.org/event/masons-391/
END:VEVENT
BEGIN:VEVENT
DTSTART;TZID=America/Los_Angeles:20260325T170000
DTEND;TZID=America/Los_Angeles:20260325T220000
DTSTAMP:20260425T091412
CREATED:20260124T222938Z
LAST-MODIFIED:20260326T041807Z
UID:34964-1774458000-1774476000@www.simimasons.org
SUMMARY:Masons
DESCRIPTION:
URL:https://www.simimasons.org/event/masons-390/
END:VEVENT
BEGIN:VEVENT
DTSTART;TZID=America/Los_Angeles:20260325T080000
DTEND;TZID=America/Los_Angeles:20260325T170000
DTSTAMP:20260425T091412
CREATED:20260124T222936Z
LAST-MODIFIED:20260325T233729Z
UID:34962-1774425600-1774458000@www.simimasons.org
SUMMARY:CHLA Blood Mobile at Lodge
DESCRIPTION:
URL:https://www.simimasons.org/event/chla-blood-mobile-at-lodge/
END:VEVENT
BEGIN:VEVENT
DTSTART;TZID=America/Los_Angeles:20260324T160000
DTEND;TZID=America/Los_Angeles:20260324T220000
DTSTAMP:20260425T091412
CREATED:20251221T120011Z
LAST-MODIFIED:20260325T042200Z
UID:34153-1774368000-1774389600@www.simimasons.org
SUMMARY:Oddfellows 4-10 pm
DESCRIPTION:
URL:https://www.simimasons.org/event/oddfellows-4-10-pm-12/
END:VEVENT
BEGIN:VEVENT
DTSTART;TZID=America/Los_Angeles:20260323T170000
DTEND;TZID=America/Los_Angeles:20260323T220000
DTSTAMP:20260425T091412
CREATED:20250918T060825Z
LAST-MODIFIED:20260324T035030Z
UID:32121-1774285200-1774303200@www.simimasons.org
SUMMARY:Mason’s TBD
DESCRIPTION:
URL:https://www.simimasons.org/event/masons-tbd-57/
END:VEVENT
BEGIN:VEVENT
DTSTART;TZID=America/Los_Angeles:20260319T180000
DTEND;TZID=America/Los_Angeles:20260319T210000
DTSTAMP:20260425T091412
CREATED:20250916T060854Z
LAST-MODIFIED:20260320T033313Z
UID:32075-1773943200-1773954000@www.simimasons.org
SUMMARY:SVMBA
DESCRIPTION:Meeting begins at 7:00pm
URL:https://www.simimasons.org/event/svmba-38/
END:VEVENT
BEGIN:VEVENT
DTSTART;TZID=America/Los_Angeles:20260318T170000
DTEND;TZID=America/Los_Angeles:20260318T220000
DTSTAMP:20260425T091412
CREATED:20260124T222937Z
LAST-MODIFIED:20260319T043306Z
UID:34963-1773853200-1773871200@www.simimasons.org
SUMMARY:Masons
DESCRIPTION:
URL:https://www.simimasons.org/event/masons-389/
END:VEVENT
BEGIN:VEVENT
DTSTART;TZID=America/Los_Angeles:20260317T164500
DTEND;TZID=America/Los_Angeles:20260317T220000
DTSTAMP:20260425T091412
CREATED:20250910T000945Z
LAST-MODIFIED:20260318T043306Z
UID:31939-1773765900-1773784800@www.simimasons.org
SUMMARY:Jobs meeting 4-10 pm
DESCRIPTION:
URL:https://www.simimasons.org/event/jobs-meeting-4-10-pm-100/
END:VEVENT
BEGIN:VEVENT
DTSTART;TZID=America/Los_Angeles:20260316T170000
DTEND;TZID=America/Los_Angeles:20260316T220000
DTSTAMP:20260425T091412
CREATED:20250909T054250Z
LAST-MODIFIED:20260317T041818Z
UID:31921-1773680400-1773698400@www.simimasons.org
SUMMARY:Mason’s TBD
DESCRIPTION:
URL:https://www.simimasons.org/event/masons-tbd-56/
END:VEVENT
BEGIN:VEVENT
DTSTART;TZID=America/Los_Angeles:20260311T170000
DTEND;TZID=America/Los_Angeles:20260311T220000
DTSTAMP:20260425T091412
CREATED:20260124T222936Z
LAST-MODIFIED:20260312T040409Z
UID:34961-1773248400-1773266400@www.simimasons.org
SUMMARY:Masons
DESCRIPTION:
URL:https://www.simimasons.org/event/masons-388/
END:VEVENT
BEGIN:VEVENT
DTSTART;TZID=America/Los_Angeles:20260310T160000
DTEND;TZID=America/Los_Angeles:20260310T220000
DTSTAMP:20260425T091412
CREATED:20251221T120006Z
LAST-MODIFIED:20260311T040341Z
UID:34152-1773158400-1773180000@www.simimasons.org
SUMMARY:Oddfellows 4-10 pm
DESCRIPTION:
URL:https://www.simimasons.org/event/oddfellows-4-10-pm-11/
END:VEVENT
BEGIN:VEVENT
DTSTART;TZID=America/Los_Angeles:20260309T080000
DTEND;TZID=America/Los_Angeles:20260309T160000
DTSTAMP:20260425T091412
CREATED:20250904T182319Z
LAST-MODIFIED:20260309T220551Z
UID:31824-1773043200-1773072000@www.simimasons.org
SUMMARY:Life Line Screening at Lodge
DESCRIPTION:
URL:https://www.simimasons.org/event/life-line-screening-at-lodge-3/
END:VEVENT
BEGIN:VEVENT
DTSTART;TZID=America/Los_Angeles:20260307T080000
DTEND;TZID=America/Los_Angeles:20260307T150000
DTSTAMP:20260425T091412
CREATED:20250902T055538Z
LAST-MODIFIED:20260307T221817Z
UID:31765-1772870400-1772895600@www.simimasons.org
SUMMARY:Amaranth Meeting 8am-3pm
DESCRIPTION:
URL:https://www.simimasons.org/event/amaranth-meeting-8am-3pm-61/
END:VEVENT
BEGIN:VEVENT
DTSTART;TZID=America/Los_Angeles:20260304T183000
DTEND;TZID=America/Los_Angeles:20260304T193000
DTSTAMP:20260425T091412
CREATED:20251104T022526Z
LAST-MODIFIED:20260305T023430Z
UID:33182-1772649000-1772652600@www.simimasons.org
SUMMARY:Masons Stated Meeting
DESCRIPTION:Dinner served at 6:00pm. Stated Meeting begins at 7:30pm
URL:https://www.simimasons.org/event/masons-stated-meeting-4/
END:VEVENT
BEGIN:VEVENT
DTSTART;TZID=America/Los_Angeles:20260304T170000
DTEND;TZID=America/Los_Angeles:20260304T220000
DTSTAMP:20260425T091412
CREATED:20260124T222923Z
LAST-MODIFIED:20260305T045017Z
UID:34960-1772643600-1772661600@www.simimasons.org
SUMMARY:Masons
DESCRIPTION:
URL:https://www.simimasons.org/event/masons-387/
END:VEVENT
BEGIN:VEVENT
DTSTART;TZID=America/Los_Angeles:20260303T160000
DTEND;TZID=America/Los_Angeles:20260303T220000
DTSTAMP:20260425T091412
CREATED:20250827T005023Z
LAST-MODIFIED:20260304T053952Z
UID:31629-1772553600-1772575200@www.simimasons.org
SUMMARY:Jobs meeting 4-10 pm
DESCRIPTION:
URL:https://www.simimasons.org/event/jobs-meeting-4-10-pm-99/
END:VEVENT
BEGIN:VEVENT
DTSTART;TZID=America/Los_Angeles:20260303T113000
DTEND;TZID=America/Los_Angeles:20260303T153000
DTSTAMP:20260425T091412
CREATED:20251007T202333Z
LAST-MODIFIED:20260303T221132Z
UID:32569-1772537400-1772551800@www.simimasons.org
SUMMARY:Oddfellows Feeding Homeless
DESCRIPTION:
URL:https://www.simimasons.org/event/oddfellows-feeding-homeless-6/
END:VEVENT
BEGIN:VEVENT
DTSTART;TZID=America/Los_Angeles:20260302T170000
DTEND;TZID=America/Los_Angeles:20260302T220000
DTSTAMP:20260425T091412
CREATED:20250826T053816Z
LAST-MODIFIED:20260303T053435Z
UID:31611-1772470800-1772488800@www.simimasons.org
SUMMARY:Mason’s TBD
DESCRIPTION:
URL:https://www.simimasons.org/event/masons-tbd-54/
END:VEVENT
BEGIN:VEVENT
DTSTART;TZID=America/Los_Angeles:20260225T170000
DTEND;TZID=America/Los_Angeles:20260225T220000
DTSTAMP:20260425T091412
CREATED:20260124T222921Z
LAST-MODIFIED:20260226T045643Z
UID:34959-1772038800-1772056800@www.simimasons.org
SUMMARY:Masons
DESCRIPTION:
URL:https://www.simimasons.org/event/masons-386/
END:VEVENT
BEGIN:VEVENT
DTSTART;TZID=America/Los_Angeles:20260224T160000
DTEND;TZID=America/Los_Angeles:20260224T220000
DTSTAMP:20260425T091412
CREATED:20251221T115951Z
LAST-MODIFIED:20260225T054126Z
UID:34151-1771948800-1771970400@www.simimasons.org
SUMMARY:Oddfellows 4-10 pm
DESCRIPTION:
URL:https://www.simimasons.org/event/oddfellows-4-10-pm-10/
END:VEVENT
BEGIN:VEVENT
DTSTART;TZID=America/Los_Angeles:20260223T170000
DTEND;TZID=America/Los_Angeles:20260223T220000
DTSTAMP:20260425T091412
CREATED:20250821T071618Z
LAST-MODIFIED:20260224T050534Z
UID:31500-1771866000-1771884000@www.simimasons.org
SUMMARY:Mason’s TBD
DESCRIPTION:
URL:https://www.simimasons.org/event/masons-tbd-53/
END:VEVENT
BEGIN:VEVENT
DTSTART;TZID=America/Los_Angeles:20260221T180000
DTEND;TZID=America/Los_Angeles:20260221T220000
DTSTAMP:20260425T091412
CREATED:20251119T190953Z
LAST-MODIFIED:20260222T044806Z
UID:33537-1771696800-1771711200@www.simimasons.org
SUMMARY:806 Sweetheart’s Dinner
DESCRIPTION:
URL:https://www.simimasons.org/event/806-sweethearts-dinner/
END:VEVENT
END:VCALENDAR