BEGIN:VCALENDAR
VERSION:2.0
PRODID:-//Simi Valley Masonic Lodge - ECPv6.15.20//NONSGML v1.0//EN
CALSCALE:GREGORIAN
METHOD:PUBLISH
X-WR-CALNAME:Simi Valley Masonic Lodge
X-ORIGINAL-URL:https://www.simimasons.org
X-WR-CALDESC:Events for Simi Valley Masonic Lodge
REFRESH-INTERVAL;VALUE=DURATION:PT1H
X-Robots-Tag:noindex
X-PUBLISHED-TTL:PT1H
BEGIN:VTIMEZONE
TZID:America/Los_Angeles
BEGIN:DAYLIGHT
TZOFFSETFROM:-0800
TZOFFSETTO:-0700
TZNAME:PDT
DTSTART:20240310T100000
END:DAYLIGHT
BEGIN:STANDARD
TZOFFSETFROM:-0700
TZOFFSETTO:-0800
TZNAME:PST
DTSTART:20241103T090000
END:STANDARD
BEGIN:DAYLIGHT
TZOFFSETFROM:-0800
TZOFFSETTO:-0700
TZNAME:PDT
DTSTART:20250309T100000
END:DAYLIGHT
BEGIN:STANDARD
TZOFFSETFROM:-0700
TZOFFSETTO:-0800
TZNAME:PST
DTSTART:20251102T090000
END:STANDARD
BEGIN:DAYLIGHT
TZOFFSETFROM:-0800
TZOFFSETTO:-0700
TZNAME:PDT
DTSTART:20260308T100000
END:DAYLIGHT
BEGIN:STANDARD
TZOFFSETFROM:-0700
TZOFFSETTO:-0800
TZNAME:PST
DTSTART:20261101T090000
END:STANDARD
END:VTIMEZONE
BEGIN:VEVENT
DTSTART;TZID=America/Los_Angeles:20251117T170000
DTEND;TZID=America/Los_Angeles:20251117T220000
DTSTAMP:20260425T184838
CREATED:20250506T061639Z
LAST-MODIFIED:20251118T051012Z
UID:28970-1763398800-1763416800@www.simimasons.org
SUMMARY:Mason’s TBD
DESCRIPTION:
URL:https://www.simimasons.org/event/masons-tbd-39/
END:VEVENT
BEGIN:VEVENT
DTSTART;TZID=America/Los_Angeles:20251115T100000
DTEND;TZID=America/Los_Angeles:20251115T110000
DTSTAMP:20260425T184838
CREATED:20251006T200646Z
LAST-MODIFIED:20251115T180853Z
UID:32535-1763200800-1763204400@www.simimasons.org
SUMMARY:Alex Juliano 3rd°
DESCRIPTION:
URL:https://www.simimasons.org/event/christian-haefele-3rd/
END:VEVENT
BEGIN:VEVENT
DTSTART;TZID=America/Los_Angeles:20251112T180000
DTEND;TZID=America/Los_Angeles:20251112T230000
DTSTAMP:20260425T184838
CREATED:20250504T210840Z
LAST-MODIFIED:20251113T063731Z
UID:28938-1762970400-1762988400@www.simimasons.org
SUMMARY:Masons Joey Rebbe 3rd°
DESCRIPTION:
URL:https://www.simimasons.org/event/masons-358/
END:VEVENT
BEGIN:VEVENT
DTSTART;TZID=America/Los_Angeles:20251105T170000
DTEND;TZID=America/Los_Angeles:20251105T220000
DTSTAMP:20260425T184838
CREATED:20250424T052330Z
LAST-MODIFIED:20251106T053059Z
UID:28705-1762362000-1762380000@www.simimasons.org
SUMMARY:Masons
DESCRIPTION:
URL:https://www.simimasons.org/event/masons-357/
END:VEVENT
BEGIN:VEVENT
DTSTART;TZID=America/Los_Angeles:20251104T113000
DTEND;TZID=America/Los_Angeles:20251104T153000
DTSTAMP:20260425T184838
CREATED:20251007T202147Z
LAST-MODIFIED:20251104T225432Z
UID:32565-1762255800-1762270200@www.simimasons.org
SUMMARY:Oddfellows Feeding Homeless
DESCRIPTION:
URL:https://www.simimasons.org/event/oddfellows-feeding-homeless-2/
END:VEVENT
BEGIN:VEVENT
DTSTART;TZID=America/Los_Angeles:20251103T170000
DTEND;TZID=America/Los_Angeles:20251103T220000
DTSTAMP:20260425T184838
CREATED:20250422T053831Z
LAST-MODIFIED:20251104T055435Z
UID:28661-1762189200-1762207200@www.simimasons.org
SUMMARY:Mason’s TBD
DESCRIPTION:
URL:https://www.simimasons.org/event/masons-tbd-37/
END:VEVENT
BEGIN:VEVENT
DTSTART;TZID=America/Los_Angeles:20251101T080000
DTEND;TZID=America/Los_Angeles:20251101T150000
DTSTAMP:20260425T184838
CREATED:20250418T044236Z
LAST-MODIFIED:20251101T215602Z
UID:28574-1761984000-1762009200@www.simimasons.org
SUMMARY:Amaranth Meeting 8am-3pm
DESCRIPTION:
URL:https://www.simimasons.org/event/amaranth-meeting-8am-3pm-57/
END:VEVENT
BEGIN:VEVENT
DTSTART;TZID=America/Los_Angeles:20251031T170000
DTEND;TZID=America/Los_Angeles:20251031T200000
DTSTAMP:20260425T184838
CREATED:20250417T062322Z
LAST-MODIFIED:20251101T022420Z
UID:28552-1761930000-1761940800@www.simimasons.org
SUMMARY:Lodge Trunk or Treat
DESCRIPTION:
URL:https://www.simimasons.org/event/lodge-trunk-or-treat/
END:VEVENT
BEGIN:VEVENT
DTSTART;TZID=America/Los_Angeles:20251029T180000
DTEND;TZID=America/Los_Angeles:20251029T230000
DTSTAMP:20260425T184838
CREATED:20250416T055502Z
LAST-MODIFIED:20251030T045329Z
UID:28529-1761760800-1761778800@www.simimasons.org
SUMMARY:Masons
DESCRIPTION:
URL:https://www.simimasons.org/event/masons-356/
END:VEVENT
BEGIN:VEVENT
DTSTART;TZID=America/Los_Angeles:20251027T170000
DTEND;TZID=America/Los_Angeles:20251027T220000
DTSTAMP:20260425T184838
CREATED:20250413T010938Z
LAST-MODIFIED:20251028T041026Z
UID:28458-1761584400-1761602400@www.simimasons.org
SUMMARY:Mason’s TBD
DESCRIPTION:
URL:https://www.simimasons.org/event/masons-tbd-36/
END:VEVENT
BEGIN:VEVENT
DTSTART;TZID=America/Los_Angeles:20251022T170000
DTEND;TZID=America/Los_Angeles:20251022T220000
DTSTAMP:20260425T184838
CREATED:20250409T004145Z
LAST-MODIFIED:20251023T045653Z
UID:28371-1761152400-1761170400@www.simimasons.org
SUMMARY:Masons
DESCRIPTION:
URL:https://www.simimasons.org/event/masons-355/
END:VEVENT
BEGIN:VEVENT
DTSTART;TZID=America/Los_Angeles:20251020T170000
DTEND;TZID=America/Los_Angeles:20251020T220000
DTSTAMP:20260425T184838
CREATED:20250405T221352Z
LAST-MODIFIED:20251021T042526Z
UID:28303-1760979600-1760997600@www.simimasons.org
SUMMARY:Mason’s TBD
DESCRIPTION:
URL:https://www.simimasons.org/event/masons-tbd-35/
END:VEVENT
BEGIN:VEVENT
DTSTART;TZID=America/Los_Angeles:20251016T180000
DTEND;TZID=America/Los_Angeles:20251016T210000
DTSTAMP:20260425T184838
CREATED:20250403T053936Z
LAST-MODIFIED:20251017T032735Z
UID:28244-1760637600-1760648400@www.simimasons.org
SUMMARY:SVMBA
DESCRIPTION:Meeting begins at 7:00pm
URL:https://www.simimasons.org/event/svmba-33/
END:VEVENT
BEGIN:VEVENT
DTSTART;TZID=America/Los_Angeles:20251015T170000
DTEND;TZID=America/Los_Angeles:20251015T220000
DTSTAMP:20260425T184838
CREATED:20250402T052652Z
LAST-MODIFIED:20251016T042305Z
UID:28220-1760547600-1760565600@www.simimasons.org
SUMMARY:Masons
DESCRIPTION:
URL:https://www.simimasons.org/event/masons-354/
END:VEVENT
BEGIN:VEVENT
DTSTART;TZID=America/Los_Angeles:20251013T170000
DTEND;TZID=America/Los_Angeles:20251013T220000
DTSTAMP:20260425T184838
CREATED:20250327T054320Z
LAST-MODIFIED:20251014T040053Z
UID:28090-1760374800-1760392800@www.simimasons.org
SUMMARY:Mason’s TBD
DESCRIPTION:
URL:https://www.simimasons.org/event/masons-tbd-34/
END:VEVENT
BEGIN:VEVENT
DTSTART;TZID=America/Los_Angeles:20251011T090000
DTEND;TZID=America/Los_Angeles:20251011T140000
DTSTAMP:20260425T184838
CREATED:20250326T002614Z
LAST-MODIFIED:20251011T195209Z
UID:28062-1760173200-1760191200@www.simimasons.org
SUMMARY:Oddfellows
DESCRIPTION:
URL:https://www.simimasons.org/event/oddfellows-9/
END:VEVENT
BEGIN:VEVENT
DTSTART;TZID=America/Los_Angeles:20251008T170000
DTEND;TZID=America/Los_Angeles:20251008T220000
DTSTAMP:20260425T184838
CREATED:20250325T052509Z
LAST-MODIFIED:20251009T035548Z
UID:28043-1759942800-1759960800@www.simimasons.org
SUMMARY:Masons
DESCRIPTION:
URL:https://www.simimasons.org/event/masons-353/
END:VEVENT
BEGIN:VEVENT
DTSTART;TZID=America/Los_Angeles:20251007T113000
DTEND;TZID=America/Los_Angeles:20251007T153000
DTSTAMP:20260425T184838
CREATED:20251007T202131Z
LAST-MODIFIED:20251007T212817Z
UID:32564-1759836600-1759851000@www.simimasons.org
SUMMARY:Oddfellows Feeding Homeless
DESCRIPTION:
URL:https://www.simimasons.org/event/oddfellows-feeding-homeless/
END:VEVENT
BEGIN:VEVENT
DTSTART;TZID=America/Los_Angeles:20251006T170000
DTEND;TZID=America/Los_Angeles:20251006T220000
DTSTAMP:20260425T184838
CREATED:20250320T055449Z
LAST-MODIFIED:20251007T040605Z
UID:27935-1759770000-1759788000@www.simimasons.org
SUMMARY:Mason’s TBD
DESCRIPTION:
URL:https://www.simimasons.org/event/masons-tbd-33/
END:VEVENT
BEGIN:VEVENT
DTSTART;TZID=America/Los_Angeles:20251004T080000
DTEND;TZID=America/Los_Angeles:20251004T150000
DTSTAMP:20260425T184838
CREATED:20250320T045359Z
LAST-MODIFIED:20251004T215104Z
UID:27932-1759564800-1759590000@www.simimasons.org
SUMMARY:Amaranth Meeting 8am-3pm
DESCRIPTION:
URL:https://www.simimasons.org/event/amaranth-meeting-8am-3pm-56/
END:VEVENT
BEGIN:VEVENT
DTSTART;TZID=America/Los_Angeles:20251001T170000
DTEND;TZID=America/Los_Angeles:20251001T220000
DTSTAMP:20260425T184838
CREATED:20250319T052447Z
LAST-MODIFIED:20251002T045128Z
UID:27909-1759338000-1759356000@www.simimasons.org
SUMMARY:Masons
DESCRIPTION:
URL:https://www.simimasons.org/event/masons-352/
END:VEVENT
BEGIN:VEVENT
DTSTART;TZID=America/Los_Angeles:20250929T170000
DTEND;TZID=America/Los_Angeles:20250929T220000
DTSTAMP:20260425T184838
CREATED:20250318T060953Z
LAST-MODIFIED:20250930T042223Z
UID:27886-1759165200-1759183200@www.simimasons.org
SUMMARY:Mason’s TBD
DESCRIPTION:
URL:https://www.simimasons.org/event/masons-tbd-32/
END:VEVENT
BEGIN:VEVENT
DTSTART;TZID=America/Los_Angeles:20250924T170000
DTEND;TZID=America/Los_Angeles:20250924T220000
DTSTAMP:20260425T184838
CREATED:20250316T210903Z
LAST-MODIFIED:20250925T041118Z
UID:27855-1758733200-1758751200@www.simimasons.org
SUMMARY:Masons
DESCRIPTION:
URL:https://www.simimasons.org/event/masons-351/
END:VEVENT
BEGIN:VEVENT
DTSTART;TZID=America/Los_Angeles:20250922T170000
DTEND;TZID=America/Los_Angeles:20250922T220000
DTSTAMP:20260425T184838
CREATED:20250313T052334Z
LAST-MODIFIED:20250923T043659Z
UID:27775-1758560400-1758578400@www.simimasons.org
SUMMARY:Mason’s TBD
DESCRIPTION:
URL:https://www.simimasons.org/event/masons-tbd-31/
END:VEVENT
BEGIN:VEVENT
DTSTART;TZID=America/Los_Angeles:20250918T180000
DTEND;TZID=America/Los_Angeles:20250918T210000
DTSTAMP:20260425T184838
CREATED:20250311T050829Z
LAST-MODIFIED:20250919T035109Z
UID:27730-1758218400-1758229200@www.simimasons.org
SUMMARY:SVMBA
DESCRIPTION:Meeting begins at 7:00pm
URL:https://www.simimasons.org/event/svmba-32/
END:VEVENT
BEGIN:VEVENT
DTSTART;TZID=America/Los_Angeles:20250917T170000
DTEND;TZID=America/Los_Angeles:20250917T220000
DTSTAMP:20260425T184838
CREATED:20250311T014024Z
LAST-MODIFIED:20250918T045604Z
UID:27725-1758128400-1758146400@www.simimasons.org
SUMMARY:Masons
DESCRIPTION:
URL:https://www.simimasons.org/event/masons-350/
END:VEVENT
BEGIN:VEVENT
DTSTART;TZID=America/Los_Angeles:20250915T170000
DTEND;TZID=America/Los_Angeles:20250915T220000
DTSTAMP:20260425T184838
CREATED:20250303T050841Z
LAST-MODIFIED:20250916T045918Z
UID:27554-1757955600-1757973600@www.simimasons.org
SUMMARY:Mason’s TBD
DESCRIPTION:
URL:https://www.simimasons.org/event/masons-tbd-30/
END:VEVENT
BEGIN:VEVENT
DTSTART;TZID=America/Los_Angeles:20250910T170000
DTEND;TZID=America/Los_Angeles:20250910T220000
DTSTAMP:20260425T184838
CREATED:20250302T051155Z
LAST-MODIFIED:20250911T045253Z
UID:27531-1757523600-1757541600@www.simimasons.org
SUMMARY:Masons
DESCRIPTION:
URL:https://www.simimasons.org/event/masons-349/
END:VEVENT
BEGIN:VEVENT
DTSTART;TZID=America/Los_Angeles:20250908T170000
DTEND;TZID=America/Los_Angeles:20250908T220000
DTSTAMP:20260425T184838
CREATED:20250301T234058Z
LAST-MODIFIED:20250909T042634Z
UID:27524-1757350800-1757368800@www.simimasons.org
SUMMARY:Mason’s TBD
DESCRIPTION:
URL:https://www.simimasons.org/event/masons-tbd-29/
END:VEVENT
BEGIN:VEVENT
DTSTART;TZID=America/Los_Angeles:20250908T080000
DTEND;TZID=America/Los_Angeles:20250908T170000
DTSTAMP:20260425T184838
CREATED:20250304T060849Z
LAST-MODIFIED:20250908T233627Z
UID:27578-1757318400-1757350800@www.simimasons.org
SUMMARY:Life Line Screening at Lodge
DESCRIPTION:
URL:https://www.simimasons.org/event/life-line-screening-at-lodge/
END:VEVENT
END:VCALENDAR