BEGIN:VCALENDAR
VERSION:2.0
PRODID:-//Simi Valley Masonic Lodge - ECPv6.15.20//NONSGML v1.0//EN
CALSCALE:GREGORIAN
METHOD:PUBLISH
X-WR-CALNAME:Simi Valley Masonic Lodge
X-ORIGINAL-URL:https://www.simimasons.org
X-WR-CALDESC:Events for Simi Valley Masonic Lodge
REFRESH-INTERVAL;VALUE=DURATION:PT1H
X-Robots-Tag:noindex
X-PUBLISHED-TTL:PT1H
BEGIN:VTIMEZONE
TZID:America/Los_Angeles
BEGIN:DAYLIGHT
TZOFFSETFROM:-0800
TZOFFSETTO:-0700
TZNAME:PDT
DTSTART:20240310T100000
END:DAYLIGHT
BEGIN:STANDARD
TZOFFSETFROM:-0700
TZOFFSETTO:-0800
TZNAME:PST
DTSTART:20241103T090000
END:STANDARD
BEGIN:DAYLIGHT
TZOFFSETFROM:-0800
TZOFFSETTO:-0700
TZNAME:PDT
DTSTART:20250309T100000
END:DAYLIGHT
BEGIN:STANDARD
TZOFFSETFROM:-0700
TZOFFSETTO:-0800
TZNAME:PST
DTSTART:20251102T090000
END:STANDARD
BEGIN:DAYLIGHT
TZOFFSETFROM:-0800
TZOFFSETTO:-0700
TZNAME:PDT
DTSTART:20260308T100000
END:DAYLIGHT
BEGIN:STANDARD
TZOFFSETFROM:-0700
TZOFFSETTO:-0800
TZNAME:PST
DTSTART:20261101T090000
END:STANDARD
END:VTIMEZONE
BEGIN:VEVENT
DTSTART;TZID=America/Los_Angeles:20250728T170000
DTEND;TZID=America/Los_Angeles:20250728T220000
DTSTAMP:20260425T213040
CREATED:20250221T055516Z
LAST-MODIFIED:20250729T035114Z
UID:27301-1753722000-1753740000@www.simimasons.org
SUMMARY:Mason’s TBD
DESCRIPTION:
URL:https://www.simimasons.org/event/masons-tbd-23/
END:VEVENT
BEGIN:VEVENT
DTSTART;TZID=America/Los_Angeles:20250723T170000
DTEND;TZID=America/Los_Angeles:20250723T220000
DTSTAMP:20260425T213040
CREATED:20250125T074212Z
LAST-MODIFIED:20250724T042129Z
UID:26673-1753290000-1753308000@www.simimasons.org
SUMMARY:Masons
DESCRIPTION:
URL:https://www.simimasons.org/event/masons-342/
END:VEVENT
BEGIN:VEVENT
DTSTART;TZID=America/Los_Angeles:20250721T170000
DTEND;TZID=America/Los_Angeles:20250721T220000
DTSTAMP:20260425T213040
CREATED:20250221T055502Z
LAST-MODIFIED:20250722T040612Z
UID:27300-1753117200-1753135200@www.simimasons.org
SUMMARY:Mason’s TBD
DESCRIPTION:
URL:https://www.simimasons.org/event/masons-tbd-22/
END:VEVENT
BEGIN:VEVENT
DTSTART;TZID=America/Los_Angeles:20250717T180000
DTEND;TZID=America/Los_Angeles:20250717T210000
DTSTAMP:20260425T213040
CREATED:20250121T064628Z
LAST-MODIFIED:20250718T025109Z
UID:26585-1752775200-1752786000@www.simimasons.org
SUMMARY:SVMBA
DESCRIPTION:Meeting begins at 7:00pm
URL:https://www.simimasons.org/event/svmba-30/
END:VEVENT
BEGIN:VEVENT
DTSTART;TZID=America/Los_Angeles:20250714T170000
DTEND;TZID=America/Los_Angeles:20250714T220000
DTSTAMP:20260425T213040
CREATED:20250221T055502Z
LAST-MODIFIED:20250715T042303Z
UID:27299-1752512400-1752530400@www.simimasons.org
SUMMARY:Mason’s TBD
DESCRIPTION:
URL:https://www.simimasons.org/event/masons-tbd-21/
END:VEVENT
BEGIN:VEVENT
DTSTART;TZID=America/Los_Angeles:20250709T170000
DTEND;TZID=America/Los_Angeles:20250709T220000
DTSTAMP:20260425T213040
CREATED:20250114T061809Z
LAST-MODIFIED:20250710T040824Z
UID:26427-1752080400-1752098400@www.simimasons.org
SUMMARY:Masons
DESCRIPTION:
URL:https://www.simimasons.org/event/masons-340/
END:VEVENT
BEGIN:VEVENT
DTSTART;TZID=America/Los_Angeles:20250707T170000
DTEND;TZID=America/Los_Angeles:20250707T220000
DTSTAMP:20260425T213040
CREATED:20250221T055501Z
LAST-MODIFIED:20250708T043748Z
UID:27298-1751907600-1751925600@www.simimasons.org
SUMMARY:Mason’s TBD
DESCRIPTION:
URL:https://www.simimasons.org/event/masons-tbd-20/
END:VEVENT
BEGIN:VEVENT
DTSTART;TZID=America/Los_Angeles:20250705T080000
DTEND;TZID=America/Los_Angeles:20250705T150000
DTSTAMP:20260425T213040
CREATED:20250107T064322Z
LAST-MODIFIED:20250705T214350Z
UID:26263-1751702400-1751727600@www.simimasons.org
SUMMARY:Amaranth Meeting 8am-3pm
DESCRIPTION:
URL:https://www.simimasons.org/event/amaranth-meeting-8am-3pm-53/
END:VEVENT
BEGIN:VEVENT
DTSTART;TZID=America/Los_Angeles:20250702T170000
DTEND;TZID=America/Los_Angeles:20250702T220000
DTSTAMP:20260425T213040
CREATED:20250104T234145Z
LAST-MODIFIED:20250703T043910Z
UID:26214-1751475600-1751493600@www.simimasons.org
SUMMARY:Masons
DESCRIPTION:
URL:https://www.simimasons.org/event/masons-339/
END:VEVENT
BEGIN:VEVENT
DTSTART;TZID=America/Los_Angeles:20250630T170000
DTEND;TZID=America/Los_Angeles:20250630T220000
DTSTAMP:20260425T213040
CREATED:20250221T055447Z
LAST-MODIFIED:20250701T040941Z
UID:27297-1751302800-1751320800@www.simimasons.org
SUMMARY:Mason’s TBD
DESCRIPTION:
URL:https://www.simimasons.org/event/masons-tbd-19/
END:VEVENT
BEGIN:VEVENT
DTSTART;TZID=America/Los_Angeles:20250625T170000
DTEND;TZID=America/Los_Angeles:20250625T220000
DTSTAMP:20260425T213040
CREATED:20241226T072539Z
LAST-MODIFIED:20250626T040909Z
UID:26008-1750870800-1750888800@www.simimasons.org
SUMMARY:Masons
DESCRIPTION:
URL:https://www.simimasons.org/event/masons-338/
END:VEVENT
BEGIN:VEVENT
DTSTART;TZID=America/Los_Angeles:20250623T170000
DTEND;TZID=America/Los_Angeles:20250623T220000
DTSTAMP:20260425T213040
CREATED:20250221T055447Z
LAST-MODIFIED:20250624T045130Z
UID:27296-1750698000-1750716000@www.simimasons.org
SUMMARY:Mason’s TBD
DESCRIPTION:
URL:https://www.simimasons.org/event/masons-tbd-18/
END:VEVENT
BEGIN:VEVENT
DTSTART;TZID=America/Los_Angeles:20250616T170000
DTEND;TZID=America/Los_Angeles:20250616T220000
DTSTAMP:20260425T213040
CREATED:20250221T055446Z
LAST-MODIFIED:20250616T172103Z
UID:27295-1750093200-1750111200@www.simimasons.org
SUMMARY:Mason’s TBD
DESCRIPTION:
URL:https://www.simimasons.org/event/masons-tbd-17/
END:VEVENT
BEGIN:VEVENT
DTSTART;TZID=America/Los_Angeles:20250614T093000
DTEND;TZID=America/Los_Angeles:20250614T103000
DTSTAMP:20260425T213040
CREATED:20250610T014144Z
LAST-MODIFIED:20250614T172104Z
UID:29742-1749893400-1749897000@www.simimasons.org
SUMMARY:Mason’s Fellowship trip to Getty
DESCRIPTION:
URL:https://www.simimasons.org/event/masons-fellowship-trip-to-getty/
END:VEVENT
BEGIN:VEVENT
DTSTART;TZID=America/Los_Angeles:20250614T090000
DTEND;TZID=America/Los_Angeles:20250614T140000
DTSTAMP:20260425T213040
CREATED:20241217T063944Z
LAST-MODIFIED:20250614T205104Z
UID:25814-1749891600-1749909600@www.simimasons.org
SUMMARY:Oddfellows
DESCRIPTION:
URL:https://www.simimasons.org/event/oddfellows-7/
END:VEVENT
BEGIN:VEVENT
DTSTART;TZID=America/Los_Angeles:20250609T170000
DTEND;TZID=America/Los_Angeles:20250609T220000
DTSTAMP:20260425T213040
CREATED:20250221T055432Z
LAST-MODIFIED:20250610T045307Z
UID:27294-1749488400-1749506400@www.simimasons.org
SUMMARY:Mason’s TBD
DESCRIPTION:
URL:https://www.simimasons.org/event/masons-tbd-16/
END:VEVENT
BEGIN:VEVENT
DTSTART;TZID=America/Los_Angeles:20250607T080000
DTEND;TZID=America/Los_Angeles:20250607T150000
DTSTAMP:20260425T213040
CREATED:20241205T060813Z
LAST-MODIFIED:20250607T212105Z
UID:25537-1749283200-1749308400@www.simimasons.org
SUMMARY:Amaranth Meeting 8am-3pm
DESCRIPTION:
URL:https://www.simimasons.org/event/amaranth-meeting-8am-3pm-52/
END:VEVENT
BEGIN:VEVENT
DTSTART;TZID=America/Los_Angeles:20250604T170000
DTEND;TZID=America/Los_Angeles:20250604T220000
DTSTAMP:20260425T213040
CREATED:20241204T061824Z
LAST-MODIFIED:20250605T040652Z
UID:25515-1749056400-1749074400@www.simimasons.org
SUMMARY:Masons
DESCRIPTION:
URL:https://www.simimasons.org/event/masons-335/
END:VEVENT
BEGIN:VEVENT
DTSTART;TZID=America/Los_Angeles:20250602T170000
DTEND;TZID=America/Los_Angeles:20250602T220000
DTSTAMP:20260425T213040
CREATED:20250221T055430Z
LAST-MODIFIED:20250603T040609Z
UID:27293-1748883600-1748901600@www.simimasons.org
SUMMARY:Mason’s TBD
DESCRIPTION:
URL:https://www.simimasons.org/event/masons-tbd-15/
END:VEVENT
BEGIN:VEVENT
DTSTART;TZID=America/Los_Angeles:20250528T170000
DTEND;TZID=America/Los_Angeles:20250528T220000
DTSTAMP:20260425T213040
CREATED:20241128T063810Z
LAST-MODIFIED:20250529T043723Z
UID:25377-1748451600-1748469600@www.simimasons.org
SUMMARY:Masons
DESCRIPTION:
URL:https://www.simimasons.org/event/masons-334/
END:VEVENT
BEGIN:VEVENT
DTSTART;TZID=America/Los_Angeles:20250526T170000
DTEND;TZID=America/Los_Angeles:20250526T220000
DTSTAMP:20260425T213040
CREATED:20250221T055417Z
LAST-MODIFIED:20250527T040753Z
UID:27292-1748278800-1748296800@www.simimasons.org
SUMMARY:Mason’s TBD
DESCRIPTION:
URL:https://www.simimasons.org/event/masons-tbd-14/
END:VEVENT
BEGIN:VEVENT
DTSTART;TZID=America/Los_Angeles:20250521T170000
DTEND;TZID=America/Los_Angeles:20250521T220000
DTSTAMP:20260425T213040
CREATED:20241125T022617Z
LAST-MODIFIED:20250522T040814Z
UID:25306-1747846800-1747864800@www.simimasons.org
SUMMARY:Masons
DESCRIPTION:
URL:https://www.simimasons.org/event/masons-333/
END:VEVENT
BEGIN:VEVENT
DTSTART;TZID=America/Los_Angeles:20250519T170000
DTEND;TZID=America/Los_Angeles:20250519T220000
DTSTAMP:20260425T213040
CREATED:20250221T055417Z
LAST-MODIFIED:20250520T042230Z
UID:27291-1747674000-1747692000@www.simimasons.org
SUMMARY:Mason’s TBD
DESCRIPTION:
URL:https://www.simimasons.org/event/masons-tbd-13/
END:VEVENT
BEGIN:VEVENT
DTSTART;TZID=America/Los_Angeles:20250515T180000
DTEND;TZID=America/Los_Angeles:20250515T210000
DTSTAMP:20260425T213040
CREATED:20241121T062140Z
LAST-MODIFIED:20250516T022116Z
UID:25220-1747332000-1747342800@www.simimasons.org
SUMMARY:SVMBA
DESCRIPTION:Meeting begins at 7:00pm
URL:https://www.simimasons.org/event/svmba-28/
END:VEVENT
BEGIN:VEVENT
DTSTART;TZID=America/Los_Angeles:20250514T170000
DTEND;TZID=America/Los_Angeles:20250514T220000
DTSTAMP:20260425T213040
CREATED:20241120T063841Z
LAST-MODIFIED:20250515T042445Z
UID:25198-1747242000-1747260000@www.simimasons.org
SUMMARY:Masons
DESCRIPTION:
URL:https://www.simimasons.org/event/masons-332/
END:VEVENT
BEGIN:VEVENT
DTSTART;TZID=America/Los_Angeles:20250512T170000
DTEND;TZID=America/Los_Angeles:20250512T220000
DTSTAMP:20260425T213040
CREATED:20250221T055416Z
LAST-MODIFIED:20250513T043613Z
UID:27290-1747069200-1747087200@www.simimasons.org
SUMMARY:Mason’s TBD
DESCRIPTION:
URL:https://www.simimasons.org/event/masons-tbd-12/
END:VEVENT
BEGIN:VEVENT
DTSTART;TZID=America/Los_Angeles:20250505T170000
DTEND;TZID=America/Los_Angeles:20250505T220000
DTSTAMP:20260425T213040
CREATED:20250221T055402Z
LAST-MODIFIED:20250506T050002Z
UID:27289-1746464400-1746482400@www.simimasons.org
SUMMARY:Mason’s TBD
DESCRIPTION:
URL:https://www.simimasons.org/event/masons-tbd-11/
END:VEVENT
BEGIN:VEVENT
DTSTART;TZID=America/Los_Angeles:20250504T090000
DTEND;TZID=America/Los_Angeles:20250504T130000
DTSTAMP:20260425T213040
CREATED:20250501T032212Z
LAST-MODIFIED:20250504T195155Z
UID:28857-1746349200-1746363600@www.simimasons.org
SUMMARY:Lodge Practice
DESCRIPTION:
URL:https://www.simimasons.org/event/lodge-practice/
END:VEVENT
BEGIN:VEVENT
DTSTART;TZID=America/Los_Angeles:20250503T080000
DTEND;TZID=America/Los_Angeles:20250503T150000
DTSTAMP:20260425T213040
CREATED:20241110T063725Z
LAST-MODIFIED:20250503T213711Z
UID:24976-1746259200-1746284400@www.simimasons.org
SUMMARY:Amaranth Meeting 8am-3pm
DESCRIPTION:
URL:https://www.simimasons.org/event/amaranth-meeting-8am-3pm-51/
END:VEVENT
BEGIN:VEVENT
DTSTART;TZID=America/Los_Angeles:20250430T170000
DTEND;TZID=America/Los_Angeles:20250430T220000
DTSTAMP:20260425T213040
CREATED:20241107T062003Z
LAST-MODIFIED:20250501T043643Z
UID:24910-1746032400-1746050400@www.simimasons.org
SUMMARY:Masons
DESCRIPTION:
URL:https://www.simimasons.org/event/masons-330/
END:VEVENT
END:VCALENDAR