BEGIN:VCALENDAR
VERSION:2.0
PRODID:-//Simi Valley Masonic Lodge - ECPv6.15.20//NONSGML v1.0//EN
CALSCALE:GREGORIAN
METHOD:PUBLISH
X-WR-CALNAME:Simi Valley Masonic Lodge
X-ORIGINAL-URL:https://www.simimasons.org
X-WR-CALDESC:Events for Simi Valley Masonic Lodge
REFRESH-INTERVAL;VALUE=DURATION:PT1H
X-Robots-Tag:noindex
X-PUBLISHED-TTL:PT1H
BEGIN:VTIMEZONE
TZID:America/Los_Angeles
BEGIN:DAYLIGHT
TZOFFSETFROM:-0800
TZOFFSETTO:-0700
TZNAME:PDT
DTSTART:20240310T100000
END:DAYLIGHT
BEGIN:STANDARD
TZOFFSETFROM:-0700
TZOFFSETTO:-0800
TZNAME:PST
DTSTART:20241103T090000
END:STANDARD
BEGIN:DAYLIGHT
TZOFFSETFROM:-0800
TZOFFSETTO:-0700
TZNAME:PDT
DTSTART:20250309T100000
END:DAYLIGHT
BEGIN:STANDARD
TZOFFSETFROM:-0700
TZOFFSETTO:-0800
TZNAME:PST
DTSTART:20251102T090000
END:STANDARD
BEGIN:DAYLIGHT
TZOFFSETFROM:-0800
TZOFFSETTO:-0700
TZNAME:PDT
DTSTART:20260308T100000
END:DAYLIGHT
BEGIN:STANDARD
TZOFFSETFROM:-0700
TZOFFSETTO:-0800
TZNAME:PST
DTSTART:20261101T090000
END:STANDARD
END:VTIMEZONE
BEGIN:VEVENT
DTSTART;VALUE=DATE:20251223
DTEND;VALUE=DATE:20251224
DTSTAMP:20260425T131225
CREATED:20250624T060840Z
LAST-MODIFIED:20251223T234536Z
UID:30209-1766448000-1766534399@www.simimasons.org
SUMMARY:The Odd Fellows 4-10 pm
DESCRIPTION:
URL:https://www.simimasons.org/event/the-odd-fellows-4-10-pm-97/
END:VEVENT
BEGIN:VEVENT
DTSTART;TZID=America/Los_Angeles:20251223T140000
DTEND;TZID=America/Los_Angeles:20251223T220000
DTSTAMP:20260425T131225
CREATED:20251221T115853Z
LAST-MODIFIED:20251224T055305Z
UID:34147-1766498400-1766527200@www.simimasons.org
SUMMARY:Floor Cleaning
DESCRIPTION:
URL:https://www.simimasons.org/event/floor-cleaning/
END:VEVENT
BEGIN:VEVENT
DTSTART;TZID=America/Los_Angeles:20251223T170000
DTEND;TZID=America/Los_Angeles:20251223T173000
DTSTAMP:20260425T131225
CREATED:20251221T115853Z
LAST-MODIFIED:20251224T010022Z
UID:34146-1766509200-1766511000@www.simimasons.org
SUMMARY:Oddfellows Dark
DESCRIPTION:
URL:https://www.simimasons.org/event/oddfellows-dark/
END:VEVENT
END:VCALENDAR